{"text_format":"1","workbook":"xlsx","n_sheets":5,"sheets":["Parms","Waveforms","Voltage","Current","C-Waveforms"],"not_rendered":{"charts":6,"images":0,"macros":1,"external_links":0,"defined_names":0,"comments":0,"pivot_tables":0},"unopened":[{"sheet":"Voltage","index":2,"reason":"not_a_worksheet"},{"sheet":"Current","index":3,"reason":"not_a_worksheet"},{"sheet":"C-Waveforms","index":4,"reason":"not_a_worksheet"}],"bounds":{"document_bytes":16777216,"sheet_cells":100000,"rows_first":2000,"rows_last":500,"rows_between":2000,"halvings":0,"cell_chars":16384,"cell_head_chars":4096},"cells_cut":0,"cells_raw":0,"read":"whole","date_system":"1900"}

{"sheet":"Parms","index":0,"n_rows":74,"n_cols":17,"rows_kept":74,"cut":false,"hidden":false,"merged":[[68,7,68,9],[68,11,68,14],[68,15,68,16],[71,7,71,8],[71,11,71,12],[61,7,61,9],[64,7,64,8],[61,11,61,14],[61,15,61,16],[64,11,64,12],[54,15,54,16],[0,11,1,11],[0,12,1,12],[0,13,1,13],[0,14,1,14],[0,1,0,4],[0,5,0,8],[0,0,1,0],[0,9,1,9],[57,11,57,12],[57,7,57,8],[54,7,54,9],[54,11,54,14]]}
["Harmonic","Voltage",null,null,null,"Current",null,null,null,"Energy",null,"Van","Vbn","Ian","Ibn"]
[null,"Voltage","Phase","An","Bn","Current","Phase","An","Bn"]
[1,100,0,{"$f":"IF(ABS($B3*SIN($C3*PI()/180))<0.0000000001,0,$B3*SIN($C3*PI()/180))","v":0},{"$f":"IF(ABS($B3*COS($C3*PI()/180))<0.0000000001,0,$B3*COS($C3*PI()/180))","v":100},100,0,{"$f":"IF(ABS($F3*SIN($G3*PI()/180))<0.0000000001,0,$F3*SIN($G3*PI()/180))","v":0},{"$f":"IF(ABS($F3*COS($G3*PI()/180))<0.0000000001,0,$F3*COS($G3*PI()/180))","v":100},{"$f":"D3*H3+E3*I3","v":10000},null,{"$f":"(SQRT(2)/100)*$B$55*D3","v":0},{"$f":"(SQRT(2)/100)*$B$55*E3","v":169.70562748477141},{"$f":"(SQRT(2)/100)*$B$56*H3","v":0},{"$f":"(SQRT(2)/100)*$B$56*I3","v":7.0710678118654755}]
[2,0,0,{"$f":"IF(ABS($B4*SIN($C4*PI()/180))<0.0000000001,0,$B4*SIN($C4*PI()/180))","v":0},{"$f":"IF(ABS($B4*COS($C4*PI()/180))<0.0000000001,0,$B4*COS($C4*PI()/180))","v":0},0,0,{"$f":"IF(ABS($F4*SIN($G4*PI()/180))<0.0000000001,0,$F4*SIN($G4*PI()/180))","v":0},{"$f":"IF(ABS($F4*COS($G4*PI()/180))<0.0000000001,0,$F4*COS($G4*PI()/180))","v":0},{"$f":"D4*H4+E4*I4","v":0},null,{"$f":"(SQRT(2)/100)*$B$55*D4","v":0},{"$f":"(SQRT(2)/100)*$B$55*E4","v":0},{"$f":"(SQRT(2)/100)*$B$56*H4","v":0},{"$f":"(SQRT(2)/100)*$B$56*I4","v":0}]
[3,3.8,180,0,-3.8,30,0,0,30,{"$f":"D5*H5+E5*I5","v":-114},null,0,-6.4488138444213128,0,2.1213203435596424]
[4,0,0,0,0,0,0,0,0,0,null,0,0,0,0]
[5,2.4,180,0,-2.4,18,0,0,18,-43.199999999999996,null,0,-4.0729350596345135,0,1.2727922061357855]
[6,0,0,0,0,0,0,0,0,0,null,0,0,0,0]
[7,1.7,180,0,-1.7,14,0,0,14,-23.8,null,0,-2.8849956672411139,0,0.98994949366116658]
[8,0,0,0,0,0,0,0,0,0,null,0,0,0,0]
[9,0,0,0,0,0,0,0,0,0,null,0,0,0,0]
[10,0,0,0,0,0,0,0,0,0,null,0,0,0,0]
[11,1.1000000000000001,180,0,-1.1000000000000001,9,0,0,9,-9.9,null,0,-1.8667619023324855,0,0.63639610306789274]
[12,0,0,0,0,0,0,0,0,0,null,0,0,0,0]
[13,0.8,180,0,-0.8,5,0,0,5,-4,null,0,-1.3576450198781713,0,0.35355339059327373]
[14,0,0,0,0,0,0,0,0,{"$f":"D16*H16+E16*I16","v":0},null,0,0,0,0]
[15,0,0,0,0,0,0,0,0,0,null,0,0,0,0]
[16,0,0,0,0,0,0,0,0,0,null,0,0,0,0]
[17,0,0,0,0,0,0,0,0,0,null,0,0,0,0]
[18,0,0,0,0,0,0,0,0,{"$f":"D20*H20+E20*I20","v":0},null,0,0,0,0]
[19,0,0,0,0,0,0,0,0,0,null,0,0,0,0]
[20,0,0,0,0,0,0,0,0,0,null,0,0,0,0]
[21,0,0,0,0,0,0,0,0,0,null,0,0,0,0]
[22,0,0,0,0,0,0,0,0,0,null,0,0,0,0]
[23,0,0,0,0,0,0,0,0,0,null,0,0,0,0]
[24,0,0,0,0,0,0,0,0,0,null,0,0,0,0]
[25,0,0,0,0,0,0,0,0,0,null,0,0,0,0]
[26,0,0,0,0,0,0,0,0,0,null,0,0,0,0]
[27,0,0,0,0,0,0,0,0,0,null,0,0,0,0]
[28,0,0,0,0,0,0,0,0,0,null,0,0,0,0]
[29,0,0,0,0,0,0,0,0,0,null,0,0,0,0]
[30,0,0,0,0,0,0,0,0,0,null,0,0,0,0]
[31,0,0,0,0,0,0,0,0,0,null,0,0,0,0]
[32,0,0,0,0,0,0,0,0,0,null,0,0,0,0]
[33,0,0,0,0,0,0,0,0,0,null,0,0,0,0]
[34,0,0,0,0,0,0,0,0,0,null,0,0,0,0]
[35,0,0,0,0,0,0,0,0,0,null,0,0,0,0]
[36,0,0,0,0,0,0,0,0,0,null,0,0,0,0]
[37,0,0,0,0,0,0,0,0,0,null,0,0,0,0]
[38,0,0,0,0,0,0,0,0,0,null,0,0,0,0]
[39,0,0,0,0,0,0,0,0,0,null,0,0,0,0]
[40,0,0,0,0,0,0,0,0,0,null,0,0,0,0]
[41,0,0,0,0,0,0,0,0,0,null,0,0,0,0]
[42,0,0,0,0,0,0,0,0,0,null,0,0,0,0]
[43,0,0,0,0,0,0,0,0,0,null,0,0,0,0]
[44,0,0,0,0,0,0,0,0,0,null,0,0,0,0]
[45,0,0,0,0,0,0,0,0,0,null,0,0,0,0]
[46,0,0,0,0,0,0,0,0,0,null,0,0,0,0]
[47,0,0,0,0,0,0,0,0,0,null,0,0,0,0]
[48,0,0,0,0,0,0,0,0,0,null,0,0,0,0]
[49,0,0,0,0,0,0,0,0,0,null,0,0,0,0]
[50,0,0,0,0,0,0,0,0,0,null,0,0,0,0]
[]
[null,null,null,null,null,null,null,"Total Energy",null,{"$f":"SUM(J3:J52)/J3","v":0.98050999999999999}]
["Vref",120,null,null,null,null,null,"Time Domain (Square Integration)",null,null,null,"Frequency Domain",null,null,null,"(TD-FD)/FD"]
["Iref",5,null,null,null,null,null,"Vrms",null,{"$f":"SQRT(SqIntegral(Waveforms!$G$2:$G$514)/512)","v":120.14954688426958},null,"Vrms",null,null,{"$f":"CRMS($L$3:$M$52)","v":120.14954681562475},"% Diff",{"$f":"(J56-O56)/(O56)","v":5.7132830867220032E-10}]
[null,null,null,null,null,null,null,"Irms",null,{"$f":"SQRT(SqIntegral(Waveforms!$H$2:$H$514)/512)","v":5.367960509624095},null,"Irms",null,null,{"$f":"CRMS($N$3:$O$52)","v":5.3679605065611282},"% Diff",{"$f":"(J57-O57)/(O57)","v":5.706015842261774E-10}]
[null,null,null,null,null,null,null,"Active Power (Pt)",null,{"$f":"SqIntegral(Waveforms!$I$2:$I$514)/512","v":588.30600067215971},null,"Active Power (Pf)",null,null,{"$f":"CPWR($L$3:$M$52,$N$3:$O$52)","v":588.30599999999993},"% Diff",1.1425343029112881E-9]
[null,null,null,null,null,null,null,"Reactive Power (Qt)",null,{"$f":"SQRT($J$60*$J$60-$J$58*$J$58)","v":264.32347778271247},null,"Reactive Power (Qf)",null,null,{"$f":"CVARS($L$3:$M$52,$N$3:$O$52)","v":0},"% Diff",{"$f":"(J59-ABS(O59))/ABS(O59)","v":{"$error":"#DIV/0!"}}]
[null,null,null,null,null,null,null,"Apparent Power (St)",null,{"$f":"J56*J57","v":644.95802292398787},null,"Apparent Power (Sf)",null,null,{"$f":"CVA($L$3:$M$52,$N$3:$O$52)","v":644.95802218749088},"% Diff",1.1419301113065197E-9]
[]
[null,null,null,null,null,null,null,"Time Domain (Trapazoidal Integration)",null,null,null,"Frequency Domain",null,null,null,"(TD-FD)/FD"]
[null,null,null,null,null,null,null,"Vrms",null,{"$f":"SQRT(TpzIntegral(Waveforms!$G$2:$G$514)/512)","v":120.14954688426958},null,"Vrms",null,null,{"$f":"CRMS($L$3:$M$52)","v":120.14954681562475},"% Diff",{"$f":"(J63-O63)/(O63)","v":5.7132830867220032E-10}]
[null,null,null,null,null,null,null,"Irms",null,{"$f":"SQRT(TpzIntegral(Waveforms!$H$2:$H$514)/512)","v":5.367960509624095},null,"Irms",null,null,{"$f":"CRMS($N$3:$O$52)","v":5.3679605065611282},"% Diff",5.706015842261774E-10]
[null,null,null,null,null,null,null,"Active Power (Pt)",null,{"$f":"TpzIntegral(Waveforms!$I$2:$I$514)/512","v":588.30600067215971},null,"Active Power (Pf)",null,null,{"$f":"CPWR($L$3:$M$52,$N$3:$O$52)","v":588.30599999999993},"% Diff",1.1425343029112881E-9]
[null,null,null,null,null,null,null,"Reactive Power (Qt)",null,{"$f":"SQRT($J$67*$J$67-$J$65*$J$65)","v":264.32347778271247},null,"Reactive Power (Qf)",null,null,{"$f":"CVARS($L$3:$M$52,$N$3:$O$52)","v":0},"% Diff",{"$f":"(J66-ABS(O66))/ABS(O66)","v":{"$error":"#DIV/0!"}}]
[null,null,null,null,null,null,null,"Apparent Power (St)",null,{"$f":"J63*J64","v":644.95802292398787},null,"Apparent Power (Sf)",null,null,{"$f":"CVA($L$3:$M$52,$N$3:$O$52)","v":644.95802218749088},"% Diff",1.1419301113065197E-9]
[]
[null,null,null,null,null,null,null,"Time Domain (Quadratic Integration)",null,null,null,"Frequency Domain",null,null,null,"(TD-FD)/FD"]
[null,null,null,null,null,null,null,"Vrms",null,{"$f":"SQRT(QuadIntegral(Waveforms!$G$2:$G$514)/512)","v":120.14952981561387},null,"Vrms",null,null,{"$f":"CRMS($L$3:$M$52)","v":120.14954681562475},"% Diff",{"$f":"(J70-O70)/(O70)","v":-1.4149042856651705E-7}]
[null,null,null,null,null,null,null,"Irms",null,{"$f":"SQRT(QuadIntegral(Waveforms!$H$2:$H$514)/512)","v":5.3678544183271377},null,"Irms",null,null,{"$f":"CRMS($N$3:$O$52)","v":5.3679605065611282},"% Diff",-1.9763229230324765E-5]
[null,null,null,null,null,null,null,"Active Power (Pt)",null,{"$f":"QuadIntegral(Waveforms!$I$2:$I$514)/512","v":588.30383928235904},null,"Active Power (Pf)",null,null,{"$f":"CPWR($L$3:$M$52,$N$3:$O$52)","v":588.30599999999993},"% Diff",-3.6727785215358213E-6]
[null,null,null,null,null,null,null,"Reactive Power (Qt)",null,{"$f":"SQRT($J$74*$J$74-$J$72*$J$72)","v":264.29696114492708},null,"Reactive Power (Qf)",null,null,{"$f":"CVARS($L$3:$M$52,$N$3:$O$52)","v":0},"% Diff",{"$f":"(J73-ABS(O73))/ABS(O73)","v":{"$error":"#DIV/0!"}}]
[null,null,null,null,null,null,null,"Apparent Power (St)",null,{"$f":"J70*J71","v":644.94518448067106},null,"Apparent Power (Sf)",null,null,{"$f":"CVA($L$3:$M$52,$N$3:$O$52)","v":644.95802218749088},"% Diff",-1.9904716862474148E-5]

{"sheet":"Waveforms","index":1,"n_rows":516,"n_cols":9,"rows_kept":516,"cut":false,"hidden":false,"merged":[]}
["Index","Degrees","Radians","Voltage","Current",null,"V^2","I^2","Pt"]
[0,{"$f":"360*A2/512","v":0},{"$f":"B2*PI()/180","v":0},{"$f":"Cwavepoint(Parms!$L$3:$M$52,Waveforms!$A2,512)","v":0},{"$f":"Cwavepoint(Parms!$N$3:$O$52,Waveforms!$A2,512)","v":0},null,{"$f":"D2*D2","v":0},{"$f":"E2*E2","v":0},{"$f":"D2*E2","v":0}]
[{"$f":"A2+1","v":1},{"$f":"360*A3/512","v":0.703125},{"$f":"B3*PI()/180","v":1.2271846303085129E-2},{"$f":"Cwavepoint(Parms!$L$3:$M$52,Waveforms!$A3,512)","v":0.88100281735413355},{"$f":"Cwavepoint(Parms!$N$3:$O$52,Waveforms!$A3,512)","v":0.46964782444847053},null,{"$f":"D3*D3","v":0.77616596418592076},{"$f":"E3*E3","v":0.22056907900918141},{"$f":"D3*E3","v":0.41376105650334205}]
[{"$f":"A3+1","v":2},1.40625,2.4543692606170259E-2,{"$f":"Cwavepoint(Parms!$L$3:$M$52,Waveforms!$A4,512)","v":1.7748277012319518},{"$f":"Cwavepoint(Parms!$N$3:$O$52,Waveforms!$A4,512)","v":0.93527188628032909},null,3.1500133690602943,0.87473350126636484,1.6599464519537879]
[3,2.109375,3.6815538909255388E-2,{"$f":"Cwavepoint(Parms!$L$3:$M$52,Waveforms!$A5,512)","v":2.6940570474136081},{"$f":"Cwavepoint(Parms!$N$3:$O$52,Waveforms!$A5,512)","v":1.3929188736503701},null,7.2579433747189279,1.9402229885714157,3.7526029080332046]
[4,2.8125,4.9087385212340517E-2,{"$f":"Cwavepoint(Parms!$L$3:$M$52,Waveforms!$A6,512)","v":3.6507990696783779},{"$f":"Cwavepoint(Parms!$N$3:$O$52,Waveforms!$A6,512)","v":1.8387749018866872},null,13.32833384716451,3.3810931398083963,6.7129977011558681]
[5,3.515625,6.1359231515425647E-2,{"$f":"Cwavepoint(Parms!$L$3:$M$52,Waveforms!$A7,512)","v":4.6564634894737793},{"$f":"Cwavepoint(Parms!$N$3:$O$52,Waveforms!$A7,512)","v":2.2692315741740909},null,21.682652228802326,5.1494119372286224,10.566593974302764]
[6,4.21875,7.3631077818510776E-2,{"$f":"Cwavepoint(Parms!$L$3:$M$52,Waveforms!$A8,512)","v":5.7215522346450918},{"$f":"Cwavepoint(Parms!$N$3:$O$52,Waveforms!$A8,512)","v":2.6809477504450481},null,32.736159973772246,7.1874808406163639,15.339182592525596]
[7,4.921875,8.5902924121595906E-2,{"$f":"Cwavepoint(Parms!$L$3:$M$52,Waveforms!$A9,512)","v":6.8554696122960523},{"$f":"Cwavepoint(Parms!$N$3:$O$52,Waveforms!$A9,512)","v":3.0709057444193824},null,46.997463605114589,9.4304620911079606,21.052501013092463]
[8,5.625,9.8174770424681035E-2,{"$f":"Cwavepoint(Parms!$L$3:$M$52,Waveforms!$A10,512)","v":8.0663559761217893},{"$f":"Cwavepoint(Parms!$N$3:$O$52,Waveforms!$A10,512)","v":3.4364607932634055},null,65.066098733515702,11.809262783636553,27.719716056448494]
[9,6.328125,0.11044661672776615,{"$f":"Cwavepoint(Parms!$L$3:$M$52,Waveforms!$A11,512)","v":9.3609483726392568},{"$f":"Cwavepoint(Parms!$N$3:$O$52,Waveforms!$A11,512)","v":3.7753827944974319},null,87.627354435217555,14.253515244987238,35.341163426240982]
[10,7.03125,0.12271846303085129,{"$f":"Cwavepoint(Parms!$L$3:$M$52,Waveforms!$A12,512)","v":10.74447103625975},{"$f":"Cwavepoint(Parms!$N$3:$O$52,Waveforms!$A12,512)","v":4.0858894770917704},null,115.44365784902466,16.694492819009263,43.900721143971019]
[11,7.734375,0.13499030933393644,{"$f":"Cwavepoint(Parms!$L$3:$M$52,Waveforms!$A13,512)","v":12.220557924558644},{"$f":"Cwavepoint(Parms!$N$3:$O$52,Waveforms!$A13,512)","v":4.3666703641709148},null,149.34203598749309,19.067810069328551,53.363148122804255]
[12,8.4375,0.14726215563702155,{"$f":"Cwavepoint(Parms!$L$3:$M$52,Waveforms!$A14,512)","v":13.791208758345102},{"$f":"Cwavepoint(Parms!$N$3:$O$52,Waveforms!$A14,512)","v":4.6169010889953981},null,190.19743901625463,21.315775665566893,63.672646734966371]
[13,9.140625,0.1595340019401067,{"$f":"Cwavepoint(Parms!$L$3:$M$52,Waveforms!$A15,512)","v":15.456779273270973},{"$f":"Cwavepoint(Parms!$N$3:$O$52,Waveforms!$A15,512)","v":4.8362478392025023},null,238.91202550261914,23.389293162190874,74.752815361386766]
[14,9.84375,0.17180584824319181,{"$f":"Cwavepoint(Parms!$L$3:$M$52,Waveforms!$A16,512)","v":17.216005618492716},{"$f":"Cwavepoint(Parms!$N$3:$O$52,Waveforms!$A16,512)","v":5.0248619217538204},null,296.39084945597273,25.249237332691497,86.508051077063882]
[15,10.546875,0.18407769454627695,{"$f":"Cwavepoint(Parms!$L$3:$M$52,Waveforms!$A17,512)","v":19.066062071335967},{"$f":"Cwavepoint(Parms!$N$3:$O$52,Waveforms!$A17,512)","v":5.1833646576698129},null,363.51472290803594,26.867269174380496,98.826352301501757]
[16,11.25,0.19634954084936207,{"$f":"Cwavepoint(Parms!$L$3:$M$52,Waveforms!$A18,512)","v":21.002650492873361},{"$f":"Cwavepoint(Parms!$N$3:$O$52,Waveforms!$A18,512)","v":5.3128230264740175},null,441.11132772579361,28.22608851063254,111.58336515552347]
[17,11.953125,0.20862138715244719,{"$f":"Cwavepoint(Parms!$L$3:$M$52,Waveforms!$A19,512)","v":23.020119245093177},{"$f":"Cwavepoint(Parms!$N$3:$O$52,Waveforms!$A19,512)","v":5.4147166805183433},null,529.92589005830928,29.319156730283588,124.64742366392736]
[18,12.65625,0.2208932334555323,{"$f":"Cwavepoint(Parms!$L$3:$M$52,Waveforms!$A20,512)","v":25.111608642195637},{"$f":"Cwavepoint(Parms!$N$3:$O$52,Waveforms!$A20,512)","v":5.490897134475432},null,630.59288859879462,30.149951341390512,137.88525993550053]
[19,13.359375,0.23316507975861747,{"$f":"Cwavepoint(Parms!$L$3:$M$52,Waveforms!$A21,512)","v":27.269219431409134},{"$f":"Cwavepoint(Parms!$N$3:$O$52,Waveforms!$A21,512)","v":5.5435401010936554},null,743.61032839834149,30.730836852433455,151.16801144353886]
[20,14.0625,0.24543692606170259,{"$f":"Cwavepoint(Parms!$L$3:$M$52,Waveforms!$A22,512)","v":29.484200305742817},{"$f":"Cwavepoint(Parms!$N$3:$O$52,Waveforms!$A22,512)","v":5.5750920871102769},null,869.31806766916486,31.081651779759625,164.37713181932119]
[21,14.765625,0.25770877236478767,{"$f":"Cwavepoint(Parms!$L$3:$M$52,Waveforms!$A23,512)","v":31.747150053412621},{"$f":"Cwavepoint(Parms!$N$3:$O$52,Waveforms!$A23,512)","v":5.588212479856101},null,1007.881536513897,31.228118720019474,177.40982012834471]
[22,15.46875,0.26998061866787287,{"$f":"Cwavepoint(Parms!$L$3:$M$52,Waveforms!$A24,512)","v":34.048229655124707},{"$f":"Cwavepoint(Parms!$N$3:$O$52,Waveforms!$A24,512)","v":5.5857124430320599},null,1159.2819426481135,31.200183496243184,190.18362004784325]
[23,16.171875,0.28225246497095796,{"$f":"Cwavepoint(Parms!$L$3:$M$52,Waveforms!$A25,512)","v":36.377379457293749},{"$f":"Cwavepoint(Parms!$N$3:$O$52,Waveforms!$A25,512)","v":5.570491997546684},null,1323.3137361799372,31.030381094731645,202.63990115857396]
[24,16.875,0.2945243112740431,{"$f":"Cwavepoint(Parms!$L$3:$M$52,Waveforms!$A26,512)","v":38.724536480293317},{"$f":"Cwavepoint(Parms!$N$3:$O$52,Waveforms!$A26,512)","v":5.545476689047339},null,1499.5897256135679,30.752311708767436,214.74601434562987]
[25,17.578125,0.30679615757712825,{"$f":"Cwavepoint(Parms!$L$3:$M$52,Waveforms!$A27,512)","v":41.079846966931861},{"$f":"Cwavepoint(Parms!$N$3:$O$52,Waveforms!$A27,512)","v":5.5135552374757868},null,1687.5538268265409,30.399291356696679,226.49600539923097]
[26,18.28125,0.31906800388021339,{"$f":"Cwavepoint(Parms!$L$3:$M$52,Waveforms!$A28,512)","v":43.433869435739403},{"$f":"Cwavepoint(Parms!$N$3:$O$52,Waveforms!$A28,512)","v":5.4775195259985665},null,1886.5010141608575,30.003220157695562,237.90986792393491]
[27,18.984375,0.33133985018329848,{"$f":"Cwavepoint(Parms!$L$3:$M$52,Waveforms!$A29,512)","v":45.777763771873168},{"$f":"Cwavepoint(Parms!$N$3:$O$52,Waveforms!$A29,512)","v":5.4400082181111582},null,2095.6036559534236,29.593689413116937,249.0314111257413]
[28,19.6875,0.34361169648638362,{"$f":"Cwavepoint(Parms!$L$3:$M$52,Waveforms!$A30,512)","v":48.103462258478473},{"$f":"Cwavepoint(Parms!$N$3:$O$52,Waveforms!$A30,512)","v":5.4034551944052565},null,2313.9430812528631,29.197328037945148,259.92490300945269]
[29,20.390625,0.35588354278946877,{"$f":"Cwavepoint(Parms!$L$3:$M$52,Waveforms!$A31,512)","v":50.40381891376876},{"$f":"Cwavepoint(Parms!$N$3:$O$52,Waveforms!$A31,512)","v":5.3700438768952354},null,2540.5449610919932,28.837371239780012,270.67071913002019]
[30,21.09375,0.36815538909255391,{"$f":"Cwavepoint(Parms!$L$3:$M$52,Waveforms!$A32,512)","v":52.672734042363892},{"$f":"Cwavepoint(Parms!$N$3:$O$52,Waveforms!$A32,512)","v":5.3416683619957297},null,2774.4169114976003,28.533420889546143,281.36027697391063]
[31,21.796875,0.380427235395639,{"$f":"Cwavepoint(Parms!$L$3:$M$52,Waveforms!$A33,512)","v":54.905251520141853},{"$f":"Cwavepoint(Parms!$N$3:$O$52,Waveforms!$A33,512)","v":5.3199021168220169},null,3014.5866444900394,28.301358532567377,292.09056378664792]
[32,22.5,0.39269908169872414,{"$f":"Cwavepoint(Parms!$L$3:$M$52,Waveforms!$A34,512)","v":57.097626995086507},{"$f":"Cwavepoint(Parms!$N$3:$O$52,Waveforms!$A34,512)","v":5.3059748114773759},null,3260.1390084700315,28.153368700032374,302.95857063105967]
[33,23.203125,0.40497092800180928,{"$f":"Cwavepoint(Parms!$L$3:$M$52,Waveforms!$A35,512)","v":59.247365886263353},{"$f":"Cwavepoint(Parms!$N$3:$O$52,Waveforms!$A35,512)","v":5.3007576667610117},null,3510.2503644607623,28.098031841725646,314.05592895700528]
[34,23.90625,0.41724277430489437,{"$f":"Cwavepoint(Parms!$L$3:$M$52,Waveforms!$A36,512)","v":61.353230782277976},{"$f":"Cwavepoint(Parms!$N$3:$O$52,Waveforms!$A36,512)","v":5.3047574968707503},null,3764.2189274234615,28.140452100606428,325.4640109495304]
[35,24.609375,0.42951462060797951,{"$f":"Cwavepoint(Parms!$L$3:$M$52,Waveforms!$A37,512)","v":63.415218562160589},{"$f":"Cwavepoint(Parms!$N$3:$O$52,Waveforms!$A37,512)","v":5.3181194249000114},null,4021.489945286597,28.28239421749883,337.24970566970603]
[36,25.3125,0.4417864669110646,{"$f":"Cwavepoint(Parms!$L$3:$M$52,Waveforms!$A38,512)","v":65.434508268436659},{"$f":"Cwavepoint(Parms!$N$3:$O$52,Waveforms!$A38,512)","v":5.34063804995884},null,4281.6748723321052,28.522414780668161,349.46202463875915]
[37,26.015625,0.4540583132141498,{"$f":"Cwavepoint(Parms!$L$3:$M$52,Waveforms!$A39,512)","v":67.413381437520584},{"$f":"Cwavepoint(Parms!$N$3:$O$52,Waveforms!$A39,512)","v":5.3717766531985829},null,4544.5639968406449,28.855984411849366,362.12962851924379]
[38,26.71875,0.46633015951723494,{"$f":"Cwavepoint(Parms!$L$3:$M$52,Waveforms!$A40,512)","v":69.355117220716025},{"$f":"Cwavepoint(Parms!$N$3:$O$52,Waveforms!$A40,512)","v":5.4106938502893493},null,4810.1322846992607,29.275607941558984,375.25930623222513]
[39,27.421875,0.47860200582032003,{"$f":"Cwavepoint(Parms!$L$3:$M$52,Waveforms!$A41,512)","v":71.263865195484556},{"$f":"Cwavepoint(Parms!$N$3:$O$52,Waveforms!$A41,512)","v":5.4562769340711705},null,5078.5384826001946,29.770957981277093,388.83538389887968]
[40,28.125,0.49087385212340517,{"$f":"Cwavepoint(Parms!$L$3:$M$52,Waveforms!$A42,512)","v":73.144499258303199},{"$f":"Cwavepoint(Parms!$N$3:$O$52,Waveforms!$A42,512)","v":5.5071810068445011},null,5350.1177717479168,30.329042642148814,402.81999707047908]
[41,28.828125,0.50314569842649037,{"$f":"Cwavepoint(Parms!$L$3:$M$52,Waveforms!$A43,512)","v":75.002456396324675},{"$f":"Cwavepoint(Parms!$N$3:$O$52,Waveforms!$A43,512)","v":5.5618728802568231},null,5625.3684654825838,30.934429936136329,417.15412818336313]
[42,29.53125,0.51541754472957535,{"$f":"Cwavepoint(Parms!$L$3:$M$52,Waveforms!$A44,512)","v":76.843564446273831},{"$f":"Cwavepoint(Parms!$N$3:$O$52,Waveforms!$A44,512)","v":5.6186786245861926},null,5904.9333968086394,31.569549486381788,431.75929299129029]
[43,30.234375,0.52768939103266055,{"$f":"Cwavepoint(Parms!$L$3:$M$52,Waveforms!$A45,512)","v":78.673863159014815},{"$f":"Cwavepoint(Parms!$N$3:$O$52,Waveforms!$A45,512)","v":5.6758335803996767},null,6189.5767443633886,32.215086832392615,446.5397544177053]
[44,30.9375,0.53996123733574575,{"$f":"Cwavepoint(Parms!$L$3:$M$52,Waveforms!$A46,512)","v":80.499422992941177},{"$f":"Cwavepoint(Parms!$N$3:$O$52,Waveforms!$A46,512)","v":5.7315336053883517},null,6480.1571021964664,32.850477469695996,461.38514809841411]
[45,31.640625,0.55223308363883084,{"$f":"Cwavepoint(Parms!$L$3:$M$52,Waveforms!$A47,512)","v":82.326166057290607},{"$f":"Cwavepoint(Parms!$N$3:$O$52,Waveforms!$A47,512)","v":5.7839863182710971},null,6777.5976176925878,33.454497729947242,476.17341811108327]
[46,32.34375,0.56450492994191592,{"$f":"Cwavepoint(Parms!$L$3:$M$52,Waveforms!$A48,512)","v":84.15969351876771},{"$f":"Cwavepoint(Parms!$N$3:$O$52,Waveforms!$A48,512)","v":5.8314611199358746},null,7082.8540131729114,34.005938793323764,490.77398062041311]
[47,33.046875,0.57677677624500112,{"$f":"Cwavepoint(Parms!$L$3:$M$52,Waveforms!$A49,512)","v":86.005123575114965},{"$f":"Cwavepoint(Parms!$N$3:$O$52,Waveforms!$A49,512)","v":5.8723368186755618},null,7396.8812811707958,34.484339711972616,505.05105376488916]
[48,33.75,0.58904862254808621,{"$f":"Cwavepoint(Parms!$L$3:$M$52,Waveforms!$A50,512)","v":87.866943793582607},{"$f":"Cwavepoint(Parms!$N$3:$O$52,Waveforms!$A50,512)","v":5.905145760033693},null,7720.5998116246046,34.870746447243903,518.86711058979313]
[49,34.453125,0.6013204688511713,{"$f":"Cwavepoint(Parms!$L$3:$M$52,Waveforms!$A51,512)","v":89.748881218953301},{"$f":"Cwavepoint(Parms!$N$3:$O$52,Waveforms!$A51,512)","v":5.9286134603347804},null,8054.8616800537884,35.148457562062738,532.08642524467393]
[50,35.15625,0.6135923151542565,{"$f":"Cwavepoint(Parms!$L$3:$M$52,Waveforms!$A52,512)","v":91.653793185269251},{"$f":"Cwavepoint(Parms!$N$3:$O$52,Waveforms!$A52,512)","v":5.9416928637945912},null,8400.4178052481075,35.303714087667572,544.5786889086196]
[51,35.859375,0.62586416145734158,{"$f":"Cwavepoint(Parms!$L$3:$M$52,Waveforms!$A53,512)","v":93.583581229848377},{"$f":"Cwavepoint(Parms!$N$3:$O$52,Waveforms!$A53,512)","v":5.943592483045558},null,8757.8866758036293,35.32629160451566,556.22266993421022]
[52,36.5625,0.63813600776042678,{"$f":"Cwavepoint(Parms!$L$3:$M$52,Waveforms!$A54,512)","v":95.539129921188689},{"$f":"Cwavepoint(Parms!$N$3:$O$52,Waveforms!$A54,512)","v":5.9337978384091965},null,9127.7253460977718,35.209956787109654,566.90988260984489]
[53,37.265625,0.65040785406351187,{"$f":"Cwavepoint(Parms!$L$3:$M$52,Waveforms!$A55,512)","v":97.520271788694501},{"$f":"Cwavepoint(Parms!$N$3:$O$52,Waveforms!$A55,512)","v":5.9120857784064764},null,9510.203409740845,34.952758251236112,576.54821194827502]
[54,37.96875,0.66267970036659696,{"$f":"Cwavepoint(Parms!$L$3:$M$52,Waveforms!$A56,512)","v":99.525778897299034},{"$f":"Cwavepoint(Parms!$N$3:$O$52,Waveforms!$A56,512)","v":5.8785314386918586},null,9905.380665114053,34.557131875688576,585.06542020806705]
[55,38.671875,0.67495154666968216,{"$f":"Cwavepoint(Parms!$L$3:$M$52,Waveforms!$A57,512)","v":101.55338095986757},{"$f":"Cwavepoint(Parms!$N$3:$O$52,Waveforms!$A57,512)","v":5.8335077745681208},null,10313.089184379993,34.02981295594671,592.41243736306558]
[56,39.375,0.68722339297276724,{"$f":"Cwavepoint(Parms!$L$3:$M$52,Waveforms!$A58,512)","v":103.59980924055951},{"$f":"Cwavepoint(Parms!$N$3:$O$52,Waveforms!$A58,512)","v":5.7776777792021585},null,10732.920474680319,33.381560520286385,598.56631577876317]
[57,40.078125,0.69949523927585233,{"$f":"Cwavepoint(Parms!$L$3:$M$52,Waveforms!$A59,512)","v":105.66086488852198},{"$f":"Cwavepoint(Parms!$N$3:$O$52,Waveforms!$A59,512)","v":5.7119796714078461},null,11164.218368990498,32.626711766576484,603.53271230660869]
[58,40.78125,0.71176708557893753,{"$f":"Cwavepoint(Parms!$L$3:$M$52,Waveforms!$A60,512)","v":107.73150976798698},{"$f":"Cwavepoint(Parms!$N$3:$O$52,Waveforms!$A60,512)","v":5.6376054993612001},null,11606.078196889874,31.782595766427647,607.34775192248821]
[59,41.484375,0.72403893188202262,{"$f":"Cwavepoint(Parms!$L$3:$M$52,Waveforms!$A61,512)","v":109.80597733152891},{"$f":"Cwavepoint(Parms!$N$3:$O$52,Waveforms!$A61,512)","v":5.5559737561090587},null,12057.352657732241,30.868844378572604,610.07912831788087]
[60,42.1875,0.73631077818510782,{"$f":"Cwavepoint(Parms!$L$3:$M$52,Waveforms!$A62,512)","v":111.87790062991037},{"$f":"Cwavepoint(Parms!$N$3:$O$52,Waveforms!$A62,512)","v":5.468696735831748},null,12516.6646493561,29.906643988496814,611.8263099864995]
[61,42.890625,0.74858262448819279,{"$f":"Cwavepoint(Parms!$L$3:$M$52,Waveforms!$A63,512)","v":113.94045417486475},{"$f":"Cwavepoint(Parms!$N$3:$O$52,Waveforms!$A63,512)","v":5.3775434735685748},null,12982.427097574455,28.917973810119971,612.71974572348324]
[62,43.59375,0.76085447079127799,{"$f":"Cwavepoint(Parms!$L$3:$M$52,Waveforms!$A64,512)","v":115.98650607861315},{"$f":"Cwavepoint(Parms!$N$3:$O$52,Waveforms!$A64,512)","v":5.2843992030664877},null,13452.869592324165,27.924874937369729,612.91900028828968]
[63,44.296875,0.77312631709436319,{"$f":"Cwavepoint(Parms!$L$3:$M$52,Waveforms!$A65,512)","v":118.00877669200183},{"$f":"Cwavepoint(Parms!$N$3:$O$52,Waveforms!$A65,512)","v":5.1912223356803118},null,13926.071376342754,26.948789338466153,612.60979736983006]
[64,45,0.78539816339744828,{"$f":"Cwavepoint(Parms!$L$3:$M$52,Waveforms!$A66,512)","v":119.99999985569032},{"$f":"Cwavepoint(Parms!$N$3:$O$52,Waveforms!$A66,512)","v":5.1000000065513715},null,14399.999965365676,26.010000066823991,612.00000005018524]
[65,{"$f":"360*A67/512","v":45.703125},{"$f":"B67*PI()/180","v":0.79767000970053348},{"$f":"Cwavepoint(Parms!$L$3:$M$52,Waveforms!$A67,512)","v":121.95308286726772},{"$f":"Cwavepoint(Parms!$N$3:$O$52,Waveforms!$A67,512)","v":5.0127032519574106},null,{"$f":"D67*D67","v":14872.554420830669},{"$f":"E67*E67","v":25.127193892184401},{"$f":"D67*E67","v":611.31461507498454}]
[{"$f":"A67+1","v":66},46.40625,0.80994185600361857,{"$f":"Cwavepoint(Parms!$L$3:$M$52,Waveforms!$A68,512)","v":123.86126135059094},{"$f":"Cwavepoint(Parms!$N$3:$O$52,Waveforms!$A68,512)","v":4.9312428737292819},null,15341.612063359393,24.317156279705827,610.78996236622174]
[67,47.109375,0.82221370230670365,{"$f":"Cwavepoint(Parms!$L$3:$M$52,Waveforms!$A69,512)","v":125.71824538876253},{"$f":"Cwavepoint(Parms!$N$3:$O$52,Waveforms!$A69,512)","v":4.8574270135631297},null,15805.07722362911,23.594597192092824,610.66720124913343]
[68,47.8125,0.83448554860978874,{"$f":"Cwavepoint(Parms!$L$3:$M$52,Waveforms!$A70,512)","v":127.51835354350399},{"$f":"Cwavepoint(Parms!$N$3:$O$52,Waveforms!$A70,512)","v":4.792921403116055},null,16260.930490446077,22.972095576447973,611.18544598878032]
[69,48.515625,0.84675739491287394,{"$f":"Cwavepoint(Parms!$L$3:$M$52,Waveforms!$A71,512)","v":129.25663172367376},{"$f":"Cwavepoint(Parms!$N$3:$O$52,Waveforms!$A71,512)","v":4.7392131767188408},null,16707.276844549426,22.460141534385485,612.57473224312923]
[70,49.21875,0.85902924121595903,{"$f":"Cwavepoint(Parms!$L$3:$M$52,Waveforms!$A72,512)","v":130.92895427491641},{"$f":"Cwavepoint(Parms!$N$3:$O$52,Waveforms!$A72,512)","v":4.6975790346453401},null,17142.391067523153,22.067248786739444,615.04911062988572]
[71,49.921875,0.87130108751904423,{"$f":"Cwavepoint(Parms!$L$3:$M$52,Waveforms!$A73,512)","v":132.53210512988795},{"$f":"Cwavepoint(Parms!$N$3:$O$52,Waveforms!$A73,512)","v":4.6690584288688477},null,17564.758890159672,21.800106612191232,618.80014255243555]
[72,50.625,0.8835729338221292,{"$f":"Cwavepoint(Parms!$L$3:$M$52,Waveforms!$A74,512)","v":134.06383737185757},{"$f":"Cwavepoint(Parms!$N$3:$O$52,Waveforms!$A74,512)","v":4.6544323132133227},null,17973.112490867876,21.663740158284323,623.99105669694973]
[73,51.328125,0.8958447801252144,{"$f":"Cwavepoint(Parms!$L$3:$M$52,Waveforms!$A75,512)","v":135.52291011042374},{"$f":"Cwavepoint(Parms!$N$3:$O$52,Waveforms!$A75,512)","v":4.6542078591685367},null,18366.459164797994,21.661650796346173,630.75179333332528]
[74,52.03125,0.9081166264282996,{"$f":"Cwavepoint(Parms!$L$3:$M$52,Waveforms!$A76,512)","v":136.90910213264024},{"$f":"Cwavepoint(Parms!$N$3:$O$52,Waveforms!$A76,512)","v":4.6686093909871955},null,18744.102246765717,21.795913645613833,639.17511992806931]
[75,52.734375,0.92038847273138469,{"$f":"Cwavepoint(Parms!$L$3:$M$52,Waveforms!$A77,512)","v":138.22320236178473},{"$f":"Cwavepoint(Parms!$N$3:$O$52,Waveforms!$A77,512)","v":4.6975756427373714},null,19105.653671146891,22.067216919239428,649.31394867587869]
[76,53.4375,0.93266031903446989,{"$f":"Cwavepoint(Parms!$L$3:$M$52,Waveforms!$A78,512)","v":139.46697771514314},{"$f":"Cwavepoint(Parms!$N$3:$O$52,Waveforms!$A78,512)","v":4.7407632894841152},null,19451.037872996236,22.474836566920249,661.17992804724975]
[77,54.140625,0.94493216533755497,{"$f":"Cwavepoint(Parms!$L$3:$M$52,Waveforms!$A79,512)","v":140.64311948779286},{"$f":"Cwavepoint(Parms!$N$3:$O$52,Waveforms!$A79,512)","v":4.7975565583861508},null,19780.487059257579,23.016548930913967,674.74332029054767]
[78,54.84375,0.95720401164064006,{"$f":"Cwavepoint(Parms!$L$3:$M$52,Waveforms!$A80,512)","v":141.75516988846746},{"$f":"Cwavepoint(Parms!$N$3:$O$52,Waveforms!$A80,512)","v":4.8670825867195013},null,20094.528190108274,23.688492905948191,689.93411894162455]
[79,55.546875,0.96947585794372515,{"$f":"Cwavepoint(Parms!$L$3:$M$52,Waveforms!$A81,512)","v":142.80743080430307},{"$f":"Cwavepoint(Parms!$N$3:$O$52,Waveforms!$A81,512)","v":4.9482320659342989},null,20393.962292925808,24.485000578340419,706.64430835954602]
[80,56.25,0.98174770424681035,{"$f":"Cwavepoint(Parms!$L$3:$M$52,Waveforms!$A82,512)","v":143.80485726308899},{"$f":"Cwavepoint(Parms!$N$3:$O$52,Waveforms!$A82,512)","v":5.0396845967416501},null,20679.836972457397,25.398420834635051,724.73112408542124]
[81,56.953125,0.99401955054989544,{"$f":"Cwavepoint(Parms!$L$3:$M$52,Waveforms!$A83,512)","v":144.7529383856965},{"$f":"Cwavepoint(Parms!$N$3:$O$52,Waveforms!$A83,512)","v":5.1399380824475083},null,20953.413171293247,26.41896349139417,744.02114055481911]
[82,57.65625,1.0062913968529807,{"$f":"Cwavepoint(Parms!$L$3:$M$52,Waveforms!$A84,512)","v":145.65756887059464},{"$f":"Cwavepoint(Parms!$N$3:$O$52,Waveforms!$A84,512)","v":5.2473414083810654},null,21216.127369292022,27.534591856110584,764.31499257878818]
[83,58.359375,1.0185632431560658,{"$f":"Cwavepoint(Parms!$L$3:$M$52,Waveforms!$A85,512)","v":146.5249142217157},{"$f":"Cwavepoint(Parms!$N$3:$O$52,Waveforms!$A85,512)","v":5.3601295958887993},null,21469.550487681146,28.730989284723023,785.39252925488597]
[84,59.0625,1.0308350894591507,{"$f":"Cwavepoint(Parms!$L$3:$M$52,Waveforms!$A86,512)","v":147.36127301744796},{"$f":"Cwavepoint(Parms!$N$3:$O$52,Waveforms!$A86,512)","v":5.4764605810354325},null,21715.344785322835,29.991620495634947,807.01820285125405]
[85,59.765625,1.043106935762236,{"$f":"Cwavepoint(Parms!$L$3:$M$52,Waveforms!$A87,512)","v":148.17293952138576},{"$f":"Cwavepoint(Parms!$N$3:$O$52,Waveforms!$A87,512)","v":5.5944527513741198},null,21955.220006408243,31.297901587357458,828.94650918460763]
[86,60.46875,1.0553787820653211,{"$f":"Cwavepoint(Parms!$L$3:$M$52,Waveforms!$A88,512)","v":148.96606985597418},{"$f":"Cwavepoint(Parms!$N$3:$O$52,Waveforms!$A88,512)","v":5.7122223788726822},null,22190.889968334981,32.629484505693888,850.92731792400696]
[87,61.171875,1.0676506283684062,{"$f":"Cwavepoint(Parms!$L$3:$M$52,Waveforms!$A89,512)","v":149.7465548017525},{"$f":"Cwavepoint(Parms!$N$3:$O$52,Waveforms!$A89,512)","v":5.82792011272082},null,22424.030674994265,33.964652840255859,872.71095853978386]
[88,61.875,1.0799224746714915,{"$f":"Cwavepoint(Parms!$L$3:$M$52,Waveforms!$A90,512)","v":150.51990205288718},{"$f":"Cwavepoint(Parms!$N$3:$O$52,Waveforms!$A90,512)","v":5.9397657411869407},null,22656.240914010748,35.280817060178045,894.05295758055308]
[89,62.578125,1.0921943209745766,{"$f":"Cwavepoint(Parms!$L$3:$M$52,Waveforms!$A91,512)","v":151.29113046126801},{"$f":"Cwavepoint(Parms!$N$3:$O$52,Waveforms!$A91,512)","v":6.0460804953525971},null,22889.006156248419,36.555089356283105,914.71835300171767]
[90,63.28125,1.1044661672776617,{"$f":"Cwavepoint(Parms!$L$3:$M$52,Waveforms!$A92,512)","v":152.06467844539131},{"$f":"Cwavepoint(Parms!$N$3:$O$52,Waveforms!$A92,512)","v":6.1453162474052165},null,23123.666430700257,37.764911780622533,934.48553910691305]
[91,63.984375,1.1167380135807468,{"$f":"Cwavepoint(Parms!$L$3:$M$52,Waveforms!$A93,512)","v":152.844328336692},{"$f":"Cwavepoint(Parms!$N$3:$O$52,Waveforms!$A93,512)","v":6.2360810498193597},null,23361.388704694509,38.888706859916127,953.14961951281316]
[92,64.6875,1.1290098598838318,{"$f":"Cwavepoint(Parms!$L$3:$M$52,Waveforms!$A94,512)","v":153.63314799611996},{"$f":"Cwavepoint(Parms!$N$3:$O$52,Waveforms!$A94,512)","v":6.3171605665013768},null,23603.1441631977,39.906517622959996,970.52526422855897]
[93,65.390625,1.1412817061869172,{"$f":"Cwavepoint(Parms!$L$3:$M$52,Waveforms!$A95,512)","v":154.433450569554},{"$f":"Cwavepoint(Parms!$N$3:$O$52,Waveforms!$A95,512)","v":6.3875350598792435},null,23849.690654818878,40.800604141186533,986.4490799311543]
[94,66.09375,1.1535535524900022,{"$f":"Cwavepoint(Parms!$L$3:$M$52,Waveforms!$A96,512)","v":155.24677277452858},{"$f":"Cwavepoint(Parms!$N$3:$O$52,Waveforms!$A96,512)","v":6.4463917159050954},null,24101.560456906107,41.555966154889838,1000.7815099347217]
[95,66.796875,1.1658253987930871,{"$f":"Cwavepoint(Parms!$L$3:$M$52,Waveforms!$A97,512)","v":156.07387163527687},{"$f":"Cwavepoint(Parms!$N$3:$O$52,Waveforms!$A97,512)","v":6.4931322088511765},null,24359.053407224885,42.160765881620556,1013.4082828751203]
[96,67.5,1.1780972450961724,{"$f":"Cwavepoint(Parms!$L$3:$M$52,Waveforms!$A98,512)","v":156.91473912059743},{"$f":"Cwavepoint(Parms!$N$3:$O$52,Waveforms!$A98,512)","v":6.5273755264838984},null,24622.235353285148,42.606631263740951,1024.2414278803933]
[97,68.203125,1.1903690913992575,{"$f":"Cwavepoint(Parms!$L$3:$M$52,Waveforms!$A99,512)","v":157.76863370135976},{"$f":"Cwavepoint(Parms!$N$3:$O$52,Waveforms!$A99,512)","v":6.5489561906572309},null,24890.941779993831,42.888827187147669,1033.2198703700531]
[98,68.90625,1.2026409377023426,{"$f":"Cwavepoint(Parms!$L$3:$M$52,Waveforms!$A100,512)","v":158.63412744256519},{"$f":"Cwavepoint(Parms!$N$3:$O$52,Waveforms!$A100,512)","v":6.5579181157107538},null,25164.786389464014,43.00629001236728,1040.3096181255667]
[99,69.609375,1.2149127840054279,{"$f":"Cwavepoint(Parms!$L$3:$M$52,Waveforms!$A101,512)","v":159.50916688865772},{"$f":"Cwavepoint(Parms!$N$3:$O$52,Waveforms!$A101,512)","v":6.5545044446746257},null,25443.174321513659,42.961528515259424,1045.5035433380535]
[100,70.3125,1.227184630308513,{"$f":"Cwavepoint(Parms!$L$3:$M$52,Waveforms!$A102,512)","v":160.391145698771},{"$f":"Cwavepoint(Parms!$N$3:$O$52,Waveforms!$A102,512)","v":6.539143788868965},null,25725.319618564386,42.760401491503565,1048.8207641856957]
[101,71.015625,1.2394564766115981,{"$f":"Cwavepoint(Parms!$L$3:$M$52,Waveforms!$A103,512)","v":161.27698674776943},{"$f":"Cwavepoint(Parms!$N$3:$O$52,Waveforms!$A103,512)","v":6.5124333681048867},null,26010.266454440196,42.411788374005958,1050.3056300035832]
[102,71.71875,1.2517283229146832,{"$f":"Cwavepoint(Parms!$L$3:$M$52,Waveforms!$A104,512)","v":162.16323123454112},{"$f":"Cwavepoint(Parms!$N$3:$O$52,Waveforms!$A104,512)","v":6.4751196048268156},null,26296.91356442725,41.927173896812576,1050.0263177488414]
[103,72.421875,1.2640001692177683,{"$f":"Cwavepoint(Parms!$L$3:$M$52,Waveforms!$A105,512)","v":163.04613223442465},{"$f":"Cwavepoint(Parms!$N$3:$O$52,Waveforms!$A105,512)","v":6.4280767651078268},null,26584.041236605488,41.320170898119102,1048.0730542568033]
[104,73.125,1.2762720155208536,{"$f":"Cwavepoint(Parms!$L$3:$M$52,Waveforms!$A106,512)","v":163.92175009937984},{"$f":"Cwavepoint(Parms!$N$3:$O$52,Waveforms!$A106,512)","v":6.3722842618166062},null,26870.340155643535,40.606006713395608,1044.5559883277128]
[105,73.828125,1.2885438618239387,{"$f":"Cwavepoint(Parms!$L$3:$M$52,Waveforms!$A107,512)","v":164.78604714710238},{"$f":"Cwavepoint(Parms!$N$3:$O$52,Waveforms!$A107,512)","v":6.3088032403888024},null,27154.441334367049,39.800998325940256,1039.6027482125014]
[106,74.53125,1.3008157081270237,{"$f":"Cwavepoint(Parms!$L$3:$M$52,Waveforms!$A108,512)","v":165.63497918637745},{"$f":"Cwavepoint(Parms!$N$3:$O$52,Waveforms!$A108,512)","v":6.2387530558027446},null,27434.946330071693,38.922039691288084,1033.3557325468364]
[107,75.234375,1.3130875544301088,{"$f":"Cwavepoint(Parms!$L$3:$M$52,Waveforms!$A109,512)","v":166.46458159640875},{"$f":"Cwavepoint(Parms!$N$3:$O$52,Waveforms!$A109,512)","v":6.1632882213810705},null,27710.456926067425,37.986121699814639,1025.9691950302742]
[108,75.9375,1.3253594007331939,{"$f":"Cwavepoint(Parms!$L$3:$M$52,Waveforms!$A110,512)","v":167.27104790680335},{"$f":"Cwavepoint(Parms!$N$3:$O$52,Waveforms!$A110,512)","v":6.0835763671437579},null,27979.603467840101,37.009901414870043,1017.6061939532002]
[109,76.640625,1.337631247036279,{"$f":"Cwavepoint(Parms!$L$3:$M$52,Waveforms!$A111,512)","v":168.05079910497417},{"$f":"Cwavepoint(Parms!$N$3:$O$52,Waveforms!$A111,512)","v":6.0007776892394959},null,28241.071079820387,36.009332875674502,1008.4354859279977]
[110,77.34375,1.3499030933393643,{"$f":"Cwavepoint(Parms!$L$3:$M$52,Waveforms!$A112,512)","v":168.80054222030677},{"$f":"Cwavepoint(Parms!$N$3:$O$52,Waveforms!$A112,512)","v":5.9160263044315515},null,28493.623053869567,34.999367234726044,998.62844797764353]
[111,78.046875,1.3621749396424494,{"$f":"Cwavepoint(Parms!$L$3:$M$52,Waveforms!$A113,512)","v":169.51731708981467},{"$f":"Cwavepoint(Parms!$N$3:$O$52,Waveforms!$A113,512)","v":5.8304138469398277},null,28736.120793328773,33.993725626587683,988.35611285654488]
[112,78.75,1.3744467859455345,{"$f":"Cwavepoint(Parms!$L$3:$M$52,Waveforms!$A114,512)","v":170.19853058771696},{"$f":"Cwavepoint(Parms!$N$3:$O$52,Waveforms!$A114,512)","v":5.7449755615824607},null,28967.539814218024,33.004744203179712,977.78639884367885]
[113,79.453125,1.3867186322486196,{"$f":"Cwavepoint(Parms!$L$3:$M$52,Waveforms!$A115,512)","v":170.84197799045751},{"$f":"Cwavepoint(Parms!$N$3:$O$52,Waveforms!$A115,512)","v":5.6606790596983547},null,29186.981443691966,32.043287416907447,967.08160732803003]
[114,80.15625,1.3989904785517047,{"$f":"Cwavepoint(Parms!$L$3:$M$52,Waveforms!$A116,512)","v":171.44585153801134},{"$f":"Cwavepoint(Parms!$N$3:$O$52,Waveforms!$A116,512)","v":5.5784158154147585},null,29393.680009593827,31.118723009669505,956.39624970689317]
[115,80.859375,1.41126232485479,{"$f":"Cwavepoint(Parms!$L$3:$M$52,Waveforms!$A117,512)","v":172.0087366308893},{"$f":"Cwavepoint(Parms!$N$3:$O$52,Waveforms!$A117,512)","v":5.4989953920902579},null,29587.00547735464,30.23895032222989,945.87525013252707]
[116,81.5625,1.4235341711578751,{"$f":"Cwavepoint(Parms!$L$3:$M$52,Waveforms!$A118,512)","v":172.52959645946729},{"$f":"Cwavepoint(Parms!$N$3:$O$52,Waveforms!$A118,512)","v":5.4231423047719343},null,29766.461654466628,29.410472457807046,935.65255338456711]
[117,82.265625,1.4358060174609599,{"$f":"Cwavepoint(Parms!$L$3:$M$52,Waveforms!$A119,512)","v":173.00774618826944},{"$f":"Cwavepoint(Parms!$N$3:$O$52,Waveforms!$A119,512)","v":5.351495346660057},null,29931.680241144659,28.638502445324242,925.85014866266806]
[118,82.96875,1.4480778637640452,{"$f":"Cwavepoint(Parms!$L$3:$M$52,Waveforms!$A120,512)","v":173.44281810372306},{"$f":"Cwavepoint(Parms!$N$3:$O$52,Waveforms!$A120,512)","v":5.28460913806106},null,30082.411151761164,27.927093742078458,916.57750148199716]
[119,83.671875,1.4603497100671303,{"$f":"Cwavepoint(Parms!$L$3:$M$52,Waveforms!$A121,512)","v":173.83471937200798},{"$f":"Cwavepoint(Parms!$N$3:$O$52,Waveforms!$A121,512)","v":5.2229575970366744},null,30218.509659144765,27.279286060443113,907.93136817276741]
[120,84.375,1.4726215563702156,{"$f":"Cwavepoint(Parms!$L$3:$M$52,Waveforms!$A122,512)","v":174.18358423767378},{"$f":"Cwavepoint(Parms!$N$3:$O$52,Waveforms!$A122,512)","v":5.1669389835020629},null,30339.9210178828,26.697258459233332,899.99595168375208]
[121,85.078125,1.4848934026733007,{"$f":"Cwavepoint(Parms!$L$3:$M$52,Waveforms!$A123,512)","v":174.48972261902085},{"$f":"Cwavepoint(Parms!$N$3:$O$52,Waveforms!$A123,512)","v":5.1168821340953219},null,30446.663299662836,26.182482774223896,892.8433442525162]
[122,85.78125,1.4971652489763856,{"$f":"Cwavepoint(Parms!$L$3:$M$52,Waveforms!$A124,512)","v":174.75356711985512},{"$f":"Cwavepoint(Parms!$N$3:$O$52,Waveforms!$A124,512)","v":5.0730534845391251},null,30538.809221113708,25.735871656994558,886.53419261302292]
[123,86.484375,1.5094370952794709,{"$f":"Cwavepoint(Parms!$L$3:$M$52,Waveforms!$A125,512)","v":174.97562047792212},{"$f":"Cwavepoint(Parms!$N$3:$O$52,Waveforms!$A125,512)","v":5.0356644698260551},null,30616.467761633838,25.357916652668525,881.11851512644068]
[124,87.1875,1.521708941582556,{"$f":"Cwavepoint(Parms!$L$3:$M$52,Waveforms!$A126,512)","v":175.15640540869671},{"$f":"Cwavepoint(Parms!$N$3:$O$52,Waveforms!$A126,512)","v":5.0048789003357816},null,30679.76635569572,25.048812807026302,876.63659768864636]
[125,87.890625,1.5339807878856413,{"$f":"Cwavepoint(Parms!$L$3:$M$52,Waveforms!$A127,512)","v":175.296418681619},{"$f":"Cwavepoint(Parms!$N$3:$O$52,Waveforms!$A127,512)","v":4.9808199334647867},null,30728.834402601464,24.808567209600163,873.11989643439699]
[126,88.59375,1.5462526341887264,{"$f":"Cwavepoint(Parms!$L$3:$M$52,Waveforms!$A128,512)","v":175.39609108837467},{"$f":"Cwavepoint(Parms!$N$3:$O$52,Waveforms!$A128,512)","v":4.9635762946392683},null,30763.788769081428,24.637089632704889,870.59187989864631]
[127,89.296875,1.5585244804918112,{"$f":"Cwavepoint(Parms!$L$3:$M$52,Waveforms!$A129,512)","v":175.45575473507591},{"$f":"Cwavepoint(Parms!$N$3:$O$52,Waveforms!$A129,512)","v":4.9532074474311134},null,30784.721869655114,24.534264017287047,869.06875104842482]
[128,90,1.5707963267948966,{"$f":"Cwavepoint(Parms!$L$3:$M$52,Waveforms!$A130,512)","v":175.47561881925364},{"$f":"Cwavepoint(Parms!$N$3:$O$52,Waveforms!$A130,512)","v":4.9497474683058345},null,30791.692800000001,24.500000000000018,868.5600000000004]
[129,{"$f":"360*A131/512","v":90.703125},{"$f":"B131*PI()/180","v":1.5830681730979816},{"$f":"Cwavepoint(Parms!$L$3:$M$52,Waveforms!$A131,512)","v":175.45575474670082},{"$f":"Cwavepoint(Parms!$N$3:$O$52,Waveforms!$A131,512)","v":4.9532074454074078},null,{"$f":"D131*D131","v":30784.721873734426},{"$f":"E131*E131","v":24.534263997239378},{"$f":"D131*E131","v":869.06875075093467}]
[{"$f":"A131+1","v":130},91.40625,1.595340019401067,{"$f":"Cwavepoint(Parms!$L$3:$M$52,Waveforms!$A132,512)","v":175.39609111166598},{"$f":"Cwavepoint(Parms!$N$3:$O$52,Waveforms!$A132,512)","v":4.9635762905983816},null,30763.788777251833,24.637089592590389,870.59187930549876]
[131,92.109375,1.6076118657041518,{"$f":"Cwavepoint(Parms!$L$3:$M$52,Waveforms!$A133,512)","v":175.29641871665689},{"$f":"Cwavepoint(Parms!$N$3:$O$52,Waveforms!$A133,512)","v":4.9808199274202458},null,30728.834414885496,24.808567149386622,873.11989554932802]
[132,92.8125,1.6198837120072371,{"$f":"Cwavepoint(Parms!$L$3:$M$52,Waveforms!$A134,512)","v":175.1564054555941},{"$f":"Cwavepoint(Parms!$N$3:$O$52,Waveforms!$A134,512)","v":5.0048788923090388},null,30679.766372124475,25.048812726680552,876.63659651742671]
[133,93.515625,1.6321555583103222,{"$f":"Cwavepoint(Parms!$L$3:$M$52,Waveforms!$A135,512)","v":174.97562053681648},{"$f":"Cwavepoint(Parms!$N$3:$O$52,Waveforms!$A135,512)","v":5.03566445984782},null,30616.467782243992,25.357916552174437,881.11851367706504]
[134,94.21875,1.6444274046134073,{"$f":"Cwavepoint(Parms!$L$3:$M$52,Waveforms!$A136,512)","v":174.75356719089777},{"$f":"Cwavepoint(Parms!$N$3:$O$52,Waveforms!$A136,512)","v":5.0730534726510426},null,30538.809245943623,25.735871536376802,886.53419089594126]
[135,94.921875,1.6566992509164926,{"$f":"Cwavepoint(Parms!$L$3:$M$52,Waveforms!$A137,512)","v":174.48972270236399},{"$f":"Cwavepoint(Parms!$N$3:$O$52,Waveforms!$A137,512)","v":5.1168821203519261},null,30446.66332874788,26.182482633577223,892.84334228089187]
[136,95.625,1.6689710972195775,{"$f":"Cwavepoint(Parms!$L$3:$M$52,Waveforms!$A138,512)","v":174.18358433345685},{"$f":"Cwavepoint(Parms!$N$3:$O$52,Waveforms!$A138,512)","v":5.166938967972885},null,30339.921051250476,26.697258298756701,899.99594947372952]
[137,96.328125,1.6812429435226628,{"$f":"Cwavepoint(Parms!$L$3:$M$52,Waveforms!$A139,512)","v":173.83471948034207},{"$f":"Cwavepoint(Parms!$N$3:$O$52,Waveforms!$A139,512)","v":5.2229575798084209},null,30218.509696809218,27.279285880478238,907.93136574372318]
[138,97.03125,1.6935147898257479,{"$f":"Cwavepoint(Parms!$L$3:$M$52,Waveforms!$A140,512)","v":173.4428182246757},{"$f":"Cwavepoint(Parms!$N$3:$O$52,Waveforms!$A140,512)","v":5.2846091192397546},null,30082.4111937179,27.927093543151976,916.57749885676435]
[139,97.734375,1.7057866361288327,{"$f":"Cwavepoint(Parms!$L$3:$M$52,Waveforms!$A141,512)","v":173.00774632184925},{"$f":"Cwavepoint(Parms!$N$3:$O$52,Waveforms!$A141,512)","v":5.3514953263729828},null,29931.680287365343,28.638502228191879,925.85014586769887]
[140,98.4375,1.7180584824319181,{"$f":"Cwavepoint(Parms!$L$3:$M$52,Waveforms!$A142,512)","v":172.52959660560904},{"$f":"Cwavepoint(Parms!$N$3:$O$52,Waveforms!$A142,512)","v":5.4231422831693203},null,29766.461704894184,29.41047222349895,935.65255045002448]
[141,99.140625,1.7303303287350031,{"$f":"Cwavepoint(Parms!$L$3:$M$52,Waveforms!$A143,512)","v":172.00873678944092},{"$f":"Cwavepoint(Parms!$N$3:$O$52,Waveforms!$A143,512)","v":5.4989953693465194},null,29587.005531899165,30.238950072094465,945.87524709227989]
[142,99.84375,1.7426021750380885,{"$f":"Cwavepoint(Parms!$L$3:$M$52,Waveforms!$A144,512)","v":171.44585170872253},{"$f":"Cwavepoint(Parms!$N$3:$O$52,Waveforms!$A144,512)","v":5.5784157917292756},null,29393.680068129277,31.118722745414562,956.39624659841331]
[143,100.546875,1.7548740213411735,{"$f":"Cwavepoint(Parms!$L$3:$M$52,Waveforms!$A145,512)","v":170.84197817297073},{"$f":"Cwavepoint(Parms!$N$3:$O$52,Waveforms!$A145,512)","v":5.660679035295594},null,29186.981506053806,32.043287140635059,967.0816041921629]
[144,101.25,1.7671458676442584,{"$f":"Cwavepoint(Parms!$L$3:$M$52,Waveforms!$A146,512)","v":170.19853078156146},{"$f":"Cwavepoint(Parms!$N$3:$O$52,Waveforms!$A146,512)","v":5.7449755367114363},null,28967.539880202123,33.004743917412853,977.78639572429893]
[145,101.953125,1.7794177139473437,{"$f":"Cwavepoint(Parms!$L$3:$M$52,Waveforms!$A147,512)","v":169.51731729440337},{"$f":"Cwavepoint(Parms!$N$3:$O$52,Waveforms!$A147,512)","v":5.830413821872801},null,28736.120862691427,33.993725334285401,988.35610980008664]
[146,102.65625,1.7916895602504288,{"$f":"Cwavepoint(Parms!$L$3:$M$52,Waveforms!$A148,512)","v":168.80054243493728},{"$f":"Cwavepoint(Parms!$N$3:$O$52,Waveforms!$A148,512)","v":5.9160262794619385},null,28493.623126329065,34.999366939284265,998.62844503251904]
[147,103.359375,1.8039614065535141,{"$f":"Cwavepoint(Parms!$L$3:$M$52,Waveforms!$A149,512)","v":168.05079932883285},{"$f":"Cwavepoint(Parms!$N$3:$O$52,Waveforms!$A149,512)","v":6.0007776646789956},null,28241.07115505965,36.009332580910304,1008.4354831439122]
[148,104.0625,1.8162332528565992,{"$f":"Cwavepoint(Parms!$L$3:$M$52,Waveforms!$A150,512)","v":167.27104813897364},{"$f":"Cwavepoint(Parms!$N$3:$O$52,Waveforms!$A150,512)","v":6.0835763433186534},null,27979.603545510836,37.009901124986357,1017.6061913803757]
[149,104.765625,1.8285050991596845,{"$f":"Cwavepoint(Parms!$L$3:$M$52,Waveforms!$A151,512)","v":166.464581835883},{"$f":"Cwavepoint(Parms!$N$3:$O$52,Waveforms!$A151,512)","v":6.1632881986277868},null,27710.457005795386,37.986121419344549,1025.969192718607]
[150,105.46875,1.8407769454627694,{"$f":"Cwavepoint(Parms!$L$3:$M$52,Waveforms!$A152,512)","v":165.63497943207224},{"$f":"Cwavepoint(Parms!$N$3:$O$52,Waveforms!$A152,512)","v":6.2387530344627127},null,27434.946411462995,38.922039425017708,1033.3557305450097]
[151,106.171875,1.8530487917658545,{"$f":"Cwavepoint(Parms!$L$3:$M$52,Waveforms!$A153,512)","v":164.78604739787761},{"$f":"Cwavepoint(Parms!$N$3:$O$52,Waveforms!$A153,512)","v":6.3088032208027007},null,27154.441417015565,39.80099807881053,1039.6027465670768]
[152,106.875,1.8653206380689398,{"$f":"Cwavepoint(Parms!$L$3:$M$52,Waveforms!$A154,512)","v":163.92175035405995},{"$f":"Cwavepoint(Parms!$N$3:$O$52,Waveforms!$A154,512)","v":6.3722842443181191},null,26870.340239138754,40.606006490384942,1044.5559870822242]
[153,107.578125,1.8775924843720246,{"$f":"Cwavepoint(Parms!$L$3:$M$52,Waveforms!$A155,512)","v":163.04613249182336},{"$f":"Cwavepoint(Parms!$N$3:$O$52,Waveforms!$A155,512)","v":6.4280767500170199},null,26584.041320541215,41.320170704109373,1048.0730534508843]
[154,108.28125,1.8898643306751099,{"$f":"Cwavepoint(Parms!$L$3:$M$52,Waveforms!$A156,512)","v":162.16323149348702},{"$f":"Cwavepoint(Parms!$N$3:$O$52,Waveforms!$A156,512)","v":6.4751195924432947},null,26296.91364841026,41.927173736443017,1050.0263174173954]
[155,108.984375,1.902136176978195,{"$f":"Cwavepoint(Parms!$L$3:$M$52,Waveforms!$A157,512)","v":161.27698700713358},{"$f":"Cwavepoint(Parms!$N$3:$O$52,Waveforms!$A157,512)","v":6.5124333587008998},null,26010.266538099135,42.411788251520285,1050.3056301760284]
[156,109.6875,1.9144080232812801,{"$f":"Cwavepoint(Parms!$L$3:$M$52,Waveforms!$A158,512)","v":160.3911459574949},{"$f":"Cwavepoint(Parms!$N$3:$O$52,Waveforms!$A158,512)","v":6.539143782682638},null,25725.319701558434,42.760401410596998,1048.8207648852963]
[157,110.390625,1.9266798695843654,{"$f":"Cwavepoint(Parms!$L$3:$M$52,Waveforms!$A159,512)","v":159.50916714578091},{"$f":"Cwavepoint(Parms!$N$3:$O$52,Waveforms!$A159,512)","v":6.5545044419034832},null,25443.17440354067,42.961528478932493,1045.5035445813462]
[158,111.09375,1.9389517158874503,{"$f":"Cwavepoint(Parms!$L$3:$M$52,Waveforms!$A160,512)","v":158.63412769725221},{"$f":"Cwavepoint(Parms!$N$3:$O$52,Waveforms!$A160,512)","v":6.5579181165057223},null,25164.786470268122,43.006290022793962,1040.3096199218924]
[159,111.796875,1.9512235621905356,{"$f":"Cwavepoint(Parms!$L$3:$M$52,Waveforms!$A161,512)","v":157.76863395292528},{"$f":"Cwavepoint(Parms!$N$3:$O$52,Waveforms!$A161,512)","v":6.5489561951173112},null,24890.941859372128,42.888827245565409,1033.2198727212053]
[160,112.5,1.9634954084936207,{"$f":"Cwavepoint(Parms!$L$3:$M$52,Waveforms!$A162,512)","v":156.91473936852901},{"$f":"Cwavepoint(Parms!$N$3:$O$52,Waveforms!$A162,512)","v":6.5273755346516706},null,24622.235431093388,42.606631370369186,1024.2414307803797]
[161,113.203125,1.975767254796706,{"$f":"Cwavepoint(Parms!$L$3:$M$52,Waveforms!$A163,512)","v":156.07387187925445},{"$f":"Cwavepoint(Parms!$N$3:$O$52,Waveforms!$A163,512)","v":6.4931322207092581},null,24359.053483381933,42.160766035612738,1013.4082863100357]
[162,113.90625,1.9880391010997909,{"$f":"Cwavepoint(Parms!$L$3:$M$52,Waveforms!$A164,512)","v":155.24677301444069},{"$f":"Cwavepoint(Parms!$N$3:$O$52,Waveforms!$A164,512)","v":6.4463917313737538},null,24101.56053139727,41.5559663543239,1000.7815138827485]
[163,114.609375,2.000310947402876,{"$f":"Cwavepoint(Parms!$L$3:$M$52,Waveforms!$A165,512)","v":154.4334508055091},{"$f":"Cwavepoint(Parms!$N$3:$O$52,Waveforms!$A165,512)","v":6.3875350788152128},null,23849.690727697598,40.800604383094864,986.44908436267281]
[164,115.3125,2.0125827937059615,{"$f":"Cwavepoint(Parms!$L$3:$M$52,Waveforms!$A166,512)","v":153.63314822845317},{"$f":"Cwavepoint(Parms!$N$3:$O$52,Waveforms!$A166,512)","v":6.3171605886980116},null,23603.144234585863,39.906517903399411,970.52526910638403]
[165,116.015625,2.0248546400090461,{"$f":"Cwavepoint(Parms!$L$3:$M$52,Waveforms!$A167,512)","v":152.84432856596692},{"$f":"Cwavepoint(Parms!$N$3:$O$52,Waveforms!$A167,512)","v":6.2360810750081397},null,23361.388774781251,38.888707174074675,953.14962479255234]
[166,116.71875,2.0371264863121317,{"$f":"Cwavepoint(Parms!$L$3:$M$52,Waveforms!$A168,512)","v":152.06467867239664},{"$f":"Cwavepoint(Parms!$N$3:$O$52,Waveforms!$A168,512)","v":6.1453162752586712},null,23123.66649973924,37.76491212295911,934.48554473745924]
[167,117.421875,2.0493983326152168,{"$f":"Cwavepoint(Parms!$L$3:$M$52,Waveforms!$A169,512)","v":151.29113068700801},{"$f":"Cwavepoint(Parms!$N$3:$O$52,Waveforms!$A169,512)","v":6.0460805254885885},null,22889.006224553337,36.555089720692365,914.71835892586807]
[168,118.125,2.0616701789183014,{"$f":"Cwavepoint(Parms!$L$3:$M$52,Waveforms!$A170,512)","v":150.51990227856749},{"$f":"Cwavepoint(Parms!$N$3:$O$52,Waveforms!$A170,512)","v":5.9397657731742983},null,22656.240981949504,35.280817440172868,894.05296373577528]
[169,118.828125,2.0739420252213869,{"$f":"Cwavepoint(Parms!$L$3:$M$52,Waveforms!$A171,512)","v":149.7465550287605},{"$f":"Cwavepoint(Parms!$N$3:$O$52,Waveforms!$A171,512)","v":5.8279201460862318},null,22424.030742981595,33.964653229157769,872.71096485912381]
[170,119.53125,2.086213871524472,{"$f":"Cwavepoint(Parms!$L$3:$M$52,Waveforms!$A172,512)","v":148.96607008585428},{"$f":"Cwavepoint(Parms!$N$3:$O$52,Waveforms!$A172,512)","v":5.7122224131087336},null,22190.89003682365,32.629484896821765,850.92732433714332]
[171,120.234375,2.0984857178275571,{"$f":"Cwavepoint(Parms!$L$3:$M$52,Waveforms!$A173,512)","v":148.1729397558106},{"$f":"Cwavepoint(Parms!$N$3:$O$52,Waveforms!$A173,512)","v":5.5944527859483024},null,21955.220075879079,31.297901974204724,828.94651561904459]
[172,120.9375,2.1107575641306422,{"$f":"Cwavepoint(Parms!$L$3:$M$52,Waveforms!$A174,512)","v":147.36127325818555},{"$f":"Cwavepoint(Parms!$N$3:$O$52,Waveforms!$A174,512)","v":5.4764606153999971},null,21715.34485627363,29.991620872027315,807.01820923364994]
[173,121.640625,2.1230294104337273,{"$f":"Cwavepoint(Parms!$L$3:$M$52,Waveforms!$A175,512)","v":146.52491447059339},{"$f":"Cwavepoint(Parms!$N$3:$O$52,Waveforms!$A175,512)","v":5.3601296294912117},null,21469.550560614709,28.730989644949595,785.39253551249317]
[174,122.34375,2.1353012567368124,{"$f":"Cwavepoint(Parms!$L$3:$M$52,Waveforms!$A176,512)","v":145.657569129461},{"$f":"Cwavepoint(Parms!$N$3:$O$52,Waveforms!$A176,512)","v":5.2473414406748615},null,21216.12744470371,27.53459219502373,764.31499864098407]
[175,123.046875,2.1475731030398975,{"$f":"Cwavepoint(Parms!$L$3:$M$52,Waveforms!$A177,512)","v":144.75293865638125},{"$f":"Cwavepoint(Parms!$N$3:$O$52,Waveforms!$A177,512)","v":5.1399381129032946},null,20953.413249658071,26.418963804475883,744.02114635468661]
[176,123.75,2.159844949342983,{"$f":"Cwavepoint(Parms!$L$3:$M$52,Waveforms!$A178,512)","v":143.8048575473627},{"$f":"Cwavepoint(Parms!$N$3:$O$52,Waveforms!$A178,512)","v":5.0396846248580225},null,20679.837054217278,25.398421118030345,724.73112956134196]
[177,124.453125,2.1721167956460681,{"$f":"Cwavepoint(Parms!$L$3:$M$52,Waveforms!$A179,512)","v":142.80743110383727},{"$f":"Cwavepoint(Parms!$N$3:$O$52,Waveforms!$A179,512)","v":4.9482320912484052},null,20393.96237847723,24.485000828860567,706.64431345675325]
[178,125.15625,2.1843886419491532,{"$f":"Cwavepoint(Parms!$L$3:$M$52,Waveforms!$A180,512)","v":141.75517020479572},{"$f":"Cwavepoint(Parms!$N$3:$O$52,Waveforms!$A180,512)","v":4.8670826088169967},null,20094.528279790604,23.688493121048865,689.93412361365449]
[179,125.859375,2.1966604882522383,{"$f":"Cwavepoint(Parms!$L$3:$M$52,Waveforms!$A181,512)","v":140.64311982227468},{"$f":"Cwavepoint(Parms!$N$3:$O$52,Waveforms!$A181,512)","v":4.7975565769103241},null,19780.487153342714,23.016549108655507,674.74332450054067]
[180,126.5625,2.2089323345553233,{"$f":"Cwavepoint(Parms!$L$3:$M$52,Waveforms!$A182,512)","v":139.4669780689307},{"$f":"Cwavepoint(Parms!$N$3:$O$52,Waveforms!$A182,512)","v":4.7407633041439219},null,19451.037971679598,22.474836705917596,661.17993176903178]
[181,127.265625,2.2212041808584084,{"$f":"Cwavepoint(Parms!$L$3:$M$52,Waveforms!$A183,512)","v":138.22320273579371},{"$f":"Cwavepoint(Parms!$N$3:$O$52,Waveforms!$A183,512)","v":4.6975756533141997},null,19105.653774540329,22.067217018610329,649.31395189477723]
[182,127.96875,2.2334760271614935,{"$f":"Cwavepoint(Parms!$L$3:$M$52,Waveforms!$A184,512)","v":136.90910252752587},{"$f":"Cwavepoint(Parms!$N$3:$O$52,Waveforms!$A184,512)","v":4.6686093973401519},null,18744.102354892591,21.795913704932776,639.17512264141362]
[183,128.671875,2.2457478734645786,{"$f":"Cwavepoint(Parms!$L$3:$M$52,Waveforms!$A185,512)","v":135.5229105265619},{"$f":"Cwavepoint(Parms!$N$3:$O$52,Waveforms!$A185,512)","v":4.6542078612381221},null,18366.459277590504,21.661650815610734,630.75179555059503]
[184,129.375,2.2580197197676637,{"$f":"Cwavepoint(Parms!$L$3:$M$52,Waveforms!$A186,512)","v":134.06383780933234},{"$f":"Cwavepoint(Parms!$N$3:$O$52,Waveforms!$A186,512)","v":4.6544323110233696},null,17973.112608166968,21.663740137898344,623.99105843955294]
[185,130.078125,2.2702915660707488,{"$f":"Cwavepoint(Parms!$L$3:$M$52,Waveforms!$A187,512)","v":132.53210558848542},{"$f":"Cwavepoint(Parms!$N$3:$O$52,Waveforms!$A187,512)","v":4.6690584225266321},null,17564.759011717448,21.800106552966881,618.80014385310676]
[186,130.78125,2.2825634123738343,{"$f":"Cwavepoint(Parms!$L$3:$M$52,Waveforms!$A188,512)","v":130.92895475412513},{"$f":"Cwavepoint(Parms!$N$3:$O$52,Waveforms!$A188,512)","v":4.697579024339861},null,17142.391193007745,22.067248689917839,615.04911153172088]
[187,131.484375,2.294835258676919,{"$f":"Cwavepoint(Parms!$L$3:$M$52,Waveforms!$A189,512)","v":129.25663222269236},{"$f":"Cwavepoint(Parms!$N$3:$O$52,Waveforms!$A189,512)","v":4.7392131627172454},null,16707.276973552354,22.460141401672395,612.57473279828571]
[188,132.1875,2.3071071049800045,{"$f":"Cwavepoint(Parms!$L$3:$M$52,Waveforms!$A190,512)","v":127.51835406125529},{"$f":"Cwavepoint(Parms!$N$3:$O$52,Waveforms!$A190,512)","v":4.792921385758282},null,16260.930622491665,22.97209541005909,611.18544625688696]
[189,132.890625,2.3193789512830896,{"$f":"Cwavepoint(Parms!$L$3:$M$52,Waveforms!$A191,512)","v":125.71824592391403},{"$f":"Cwavepoint(Parms!$N$3:$O$52,Waveforms!$A191,512)","v":4.857426993254859},null,15805.077358185725,23.594596994800941,610.66720129547264]
[190,133.59375,2.3316507975861742,{"$f":"Cwavepoint(Parms!$L$3:$M$52,Waveforms!$A192,512)","v":123.86126190158166},{"$f":"Cwavepoint(Parms!$N$3:$O$52,Waveforms!$A192,512)","v":4.9312428509333177},null,15341.612199852203,24.317156054880954,610.78996225975391]
[191,134.296875,2.3439226438892597,{"$f":"Cwavepoint(Parms!$L$3:$M$52,Waveforms!$A193,512)","v":121.95308343234053},{"$f":"Cwavepoint(Parms!$N$3:$O$52,Waveforms!$A193,512)","v":5.012703227183712},null,14872.554558655411,25.127193643818,611.31461488629782]
[192,135,2.3561944901923448,{"$f":"Cwavepoint(Parms!$L$3:$M$52,Waveforms!$A194,512)","v":120.00000043292904},{"$f":"Cwavepoint(Parms!$N$3:$O$52,Waveforms!$A194,512)","v":5.0999999803458849},null,14400.00010390297,26.009999799528025,611.99999984944429]
[193,{"$f":"360*A195/512","v":135.703125},{"$f":"B195*PI()/180","v":2.3684663364954299},{"$f":"Cwavepoint(Parms!$L$3:$M$52,Waveforms!$A195,512)","v":118.0087772793723},{"$f":"Cwavepoint(Parms!$N$3:$O$52,Waveforms!$A195,512)","v":5.1912223086129181},null,{"$f":"D195*D195","v":13926.071514972495},{"$f":"E195*E195","v":26.948789057440436},{"$f":"D195*E195","v":612.60979722481068}]
[{"$f":"A195+1","v":194},136.40625,2.380738182798515,{"$f":"Cwavepoint(Parms!$L$3:$M$52,Waveforms!$A196,512)","v":115.98650667400756},{"$f":"Cwavepoint(Parms!$N$3:$O$52,Waveforms!$A196,512)","v":5.2843991757182947},null,13452.869730439599,27.924874648332192,612.91900026256997]
[195,137.109375,2.3930100291016005,{"$f":"Cwavepoint(Parms!$L$3:$M$52,Waveforms!$A197,512)","v":113.94045477614769},{"$f":"Cwavepoint(Parms!$N$3:$O$52,Waveforms!$A197,512)","v":5.3775434465188479},null,12982.427234595356,28.917973519197808,612.71974587485022]
[196,137.8125,2.4052818754046852,{"$f":"Cwavepoint(Parms!$L$3:$M$52,Waveforms!$A198,512)","v":111.87790123496616},{"$f":"Cwavepoint(Parms!$N$3:$O$52,Waveforms!$A198,512)","v":5.46869670964481},null,12516.664784740842,29.906643702079972,611.82631036562645]
[197,138.515625,2.4175537217077703,{"$f":"Cwavepoint(Parms!$L$3:$M$52,Waveforms!$A199,512)","v":109.80597793830862},{"$f":"Cwavepoint(Parms!$N$3:$O$52,Waveforms!$A199,512)","v":5.5559737313214317},null,12057.352790988318,30.868844103133792,610.07912896730329]
[198,139.21875,2.4298255680108558,{"$f":"Cwavepoint(Parms!$L$3:$M$52,Waveforms!$A200,512)","v":107.73151037455379},{"$f":"Cwavepoint(Parms!$N$3:$O$52,Waveforms!$A200,512)","v":5.6376054764693411},null,11606.078327582591,31.782595508317105,607.3477528758981]
[199,139.921875,2.4420974143139409,{"$f":"Cwavepoint(Parms!$L$3:$M$52,Waveforms!$A201,512)","v":105.66086549309459},{"$f":"Cwavepoint(Parms!$N$3:$O$52,Waveforms!$A201,512)","v":5.7119796508567573},null,11164.218496749827,32.626711531801682,603.53271358846928]
[200,140.625,2.454369260617026,{"$f":"Cwavepoint(Parms!$L$3:$M$52,Waveforms!$A202,512)","v":103.59980984155175},{"$f":"Cwavepoint(Parms!$N$3:$O$52,Waveforms!$A202,512)","v":5.7776777613751271},null,10732.920599205681,33.381560314288699,598.56631740422552]
[201,141.328125,2.4666411069201111,{"$f":"Cwavepoint(Parms!$L$3:$M$52,Waveforms!$A203,512)","v":101.55338155592347},{"$f":"Cwavepoint(Parms!$N$3:$O$52,Waveforms!$A203,512)","v":5.8335077597779197},null,10313.089305442976,34.029812783389204,592.41243933816736]
[202,142.03125,2.4789129532231962,{"$f":"Cwavepoint(Parms!$L$3:$M$52,Waveforms!$A204,512)","v":99.525779487322538},{"$f":"Cwavepoint(Parms!$N$3:$O$52,Waveforms!$A204,512)","v":5.8785314271735727},null,9905.3807825591521,34.557131740267359,585.06542253017244]
[203,142.734375,2.4911847995262812,{"$f":"Cwavepoint(Parms!$L$3:$M$52,Waveforms!$A205,512)","v":97.520272371872622},{"$f":"Cwavepoint(Parms!$N$3:$O$52,Waveforms!$A205,512)","v":5.9120857703121779},null,9510.2035234842224,34.952758155527739,576.54821460671599]
[204,143.4375,2.5034566458293663,{"$f":"Cwavepoint(Parms!$L$3:$M$52,Waveforms!$A206,512)","v":95.539130497008344},{"$f":"Cwavepoint(Parms!$N$3:$O$52,Waveforms!$A206,512)","v":5.933797833804622},null,9127.7254561243899,35.209956732464427,566.90988558672518]
[205,144.140625,2.5157284921324514,{"$f":"Cwavepoint(Parms!$L$3:$M$52,Waveforms!$A207,512)","v":93.5835817981052},{"$f":"Cwavepoint(Parms!$N$3:$O$52,Waveforms!$A207,512)","v":5.9435924819089054},null,8757.8867821626463,35.326291591004065,556.22267320532512]
[206,144.84375,2.5280003384355365,{"$f":"Cwavepoint(Parms!$L$3:$M$52,Waveforms!$A208,512)","v":91.653793746069184},{"$f":"Cwavepoint(Parms!$N$3:$O$52,Waveforms!$A208,512)","v":5.9416928660174531},null,8400.4179080469912,35.303714114082695,544.5786924444543]
[207,145.546875,2.540272184738622,{"$f":"Cwavepoint(Parms!$L$3:$M$52,Waveforms!$A209,512)","v":89.748881772706156},{"$f":"Cwavepoint(Parms!$N$3:$O$52,Waveforms!$A209,512)","v":5.9286134657252685},null,8054.8617794511874,35.148457625978978,532.08642901145083]
[208,146.25,2.5525440310417071,{"$f":"Cwavepoint(Parms!$L$3:$M$52,Waveforms!$A210,512)","v":87.866944340988098},{"$f":"Cwavepoint(Parms!$N$3:$O$52,Waveforms!$A210,512)","v":5.9051457683216855},null,7720.5999078223003,34.87074654512751,518.86711455054296]
[209,146.953125,2.5648158773447918,{"$f":"Cwavepoint(Parms!$L$3:$M$52,Waveforms!$A211,512)","v":86.005124117140895},{"$f":"Cwavepoint(Parms!$N$3:$O$52,Waveforms!$A211,512)","v":5.8723368295199823},null,7396.8813744048102,34.484339839336798,505.05105788052373]
[210,147.65625,2.5770877236478773,{"$f":"Cwavepoint(Parms!$L$3:$M$52,Waveforms!$A212,512)","v":84.159694056621376},{"$f":"Cwavepoint(Parms!$N$3:$O$52,Waveforms!$A212,512)","v":5.8314611329338435},null,7082.8541037041114,34.005938944918064,490.77398485079095]
[211,148.359375,2.5893595699509624,{"$f":"Cwavepoint(Parms!$L$3:$M$52,Waveforms!$A213,512)","v":82.3261665923838},{"$f":"Cwavepoint(Parms!$N$3:$O$52,Waveforms!$A213,512)","v":5.7839863329687846},null,6777.5977057969303,33.454497899969688,476.17342241605922]
[212,149.0625,2.6016314162540475,{"$f":"Cwavepoint(Parms!$L$3:$M$52,Waveforms!$A214,512)","v":80.49942352684927},{"$f":"Cwavepoint(Parms!$N$3:$O$52,Waveforms!$A214,512)","v":5.7315336212932708},null,6480.1571881550535,32.850477652015158,461.38515243886314]
[213,149.765625,2.6139032625571326,{"$f":"Cwavepoint(Parms!$L$3:$M$52,Waveforms!$A215,512)","v":78.673863693431443},{"$f":"Cwavepoint(Parms!$N$3:$O$52,Waveforms!$A215,512)","v":5.6758335969941607},null,6189.5768284526303,32.215087020767669,446.5397587565173]
[214,150.46875,2.6261751088602177,{"$f":"Cwavepoint(Parms!$L$3:$M$52,Waveforms!$A216,512)","v":76.843564982961723},{"$f":"Cwavepoint(Parms!$N$3:$O$52,Waveforms!$A216,512)","v":5.6186786413417353},null,5904.9334792906611,31.569549674669808,431.75929729432272]
[215,151.171875,2.6384469551633027,{"$f":"Cwavepoint(Parms!$L$3:$M$52,Waveforms!$A217,512)","v":75.002456937063826},{"$f":"Cwavepoint(Parms!$N$3:$O$52,Waveforms!$A217,512)","v":5.5618728966489313},null,5625.3685465961134,30.934430118477973,417.15413242033389]
[216,151.875,2.6507188014663878,{"$f":"Cwavepoint(Parms!$L$3:$M$52,Waveforms!$A218,512)","v":73.14449980483819},{"$f":"Cwavepoint(Parms!$N$3:$O$52,Waveforms!$A218,512)","v":5.5071810223677655},null,5350.1178516999744,30.329042813127668,402.82000121578761]
[217,152.578125,2.6629906477694734,{"$f":"Cwavepoint(Parms!$L$3:$M$52,Waveforms!$A219,512)","v":71.26386574947162},{"$f":"Cwavepoint(Parms!$N$3:$O$52,Waveforms!$A219,512)","v":5.4562769482541178},null,5078.5385615587138,29.77095813604927,388.83538793231816]
[218,153.28125,2.675262494072558,{"$f":"Cwavepoint(Parms!$L$3:$M$52,Waveforms!$A220,512)","v":69.355117783671432},{"$f":"Cwavepoint(Parms!$N$3:$O$52,Waveforms!$A220,512)","v":5.4106938627087855},null,4810.1323627869369,29.275608075954519,375.25931013955596]
[219,153.984375,2.6875343403756431,{"$f":"Cwavepoint(Parms!$L$3:$M$52,Waveforms!$A221,512)","v":67.413382010771613},{"$f":"Cwavepoint(Parms!$N$3:$O$52,Waveforms!$A221,512)","v":5.3717766634930282},null,4544.5640741302259,28.855984522448288,362.12963229260367]
[220,154.6875,2.6998061866787286,{"$f":"Cwavepoint(Parms!$L$3:$M$52,Waveforms!$A222,512)","v":65.434508853076565},{"$f":"Cwavepoint(Parms!$N$3:$O$52,Waveforms!$A222,512)","v":5.3406380578407049},null,4281.6749488433552,28.522414864856536,349.46202827685522]
[221,155.390625,2.7120780329818137,{"$f":"Cwavepoint(Parms!$L$3:$M$52,Waveforms!$A223,512)","v":63.415219159008373},{"$f":"Cwavepoint(Parms!$N$3:$O$52,Waveforms!$A223,512)","v":5.3181194301662664},null,4021.4900209850625,28.282394273511976,337.24970917777449]
[222,156.09375,2.7243498792848988,{"$f":"Cwavepoint(Parms!$L$3:$M$52,Waveforms!$A224,512)","v":61.353231391844332},{"$f":"Cwavepoint(Parms!$N$3:$O$52,Waveforms!$A224,512)","v":5.3047574994117239},null,3764.219002221193,28.140452127564927,325.46401433902901]
[223,156.796875,2.7366217255879839,{"$f":"Cwavepoint(Parms!$L$3:$M$52,Waveforms!$A225,512)","v":59.247366508723466},{"$f":"Cwavepoint(Parms!$N$3:$O$52,Waveforms!$A225,512)","v":5.3007576665671419},null,3510.2504382190073,28.09803183967033,314.05593224502923]
[224,157.5,2.748893571891069,{"$f":"Cwavepoint(Parms!$L$3:$M$52,Waveforms!$A226,512)","v":57.09762763026081},{"$f":"Cwavepoint(Parms!$N$3:$O$52,Waveforms!$A226,512)","v":5.3059748086436764},null,3260.1390810039225,28.153368669961299,302.95857383948101]
[225,158.203125,2.7611654181941541,{"$f":"Cwavepoint(Parms!$L$3:$M$52,Waveforms!$A227,512)","v":54.905252167484868},{"$f":"Cwavepoint(Parms!$N$3:$O$52,Waveforms!$A227,512)","v":5.3199021115501175},null,3014.5867155751016,28.3013584764754,292.09056694099439]
[226,158.90625,2.7734372644972392,{"$f":"Cwavepoint(Parms!$L$3:$M$52,Waveforms!$A228,512)","v":52.672734700961996},{"$f":"Cwavepoint(Parms!$N$3:$O$52,Waveforms!$A228,512)","v":5.3416683545934118},null,2774.4169808779261,28.533420810464687,281.36028010202295]
[227,159.609375,2.7857091108003242,{"$f":"Cwavepoint(Parms!$L$3:$M$52,Waveforms!$A229,512)","v":50.403819582346813},{"$f":"Cwavepoint(Parms!$N$3:$O$52,Waveforms!$A229,512)","v":5.3700438677734166},null,2540.5450284897679,28.837371141810877,270.67072226053915]
[228,160.3125,2.7979809571034093,{"$f":"Cwavepoint(Parms!$L$3:$M$52,Waveforms!$A230,512)","v":48.103462935415379},{"$f":"Cwavepoint(Parms!$N$3:$O$52,Waveforms!$A230,512)","v":5.4034551840724401},null,2313.943146378881,29.197327926279328,259.92490617020673]
[229,161.015625,2.8102528034064949,{"$f":"Cwavepoint(Parms!$L$3:$M$52,Waveforms!$A231,512)","v":45.777764455226183},{"$f":"Cwavepoint(Parms!$N$3:$O$52,Waveforms!$A231,512)","v":5.4400082071654401},null,2095.6037185181699,29.593689294027346,249.03141434211679]
[230,161.71875,2.8225246497095799,{"$f":"Cwavepoint(Parms!$L$3:$M$52,Waveforms!$A232,512)","v":43.433870123276648},{"$f":"Cwavepoint(Parms!$N$3:$O$52,Waveforms!$A232,512)","v":5.4775195151173532},null,1886.5010738856638,30.003220038491445,237.90987121732041]
[231,162.421875,2.8347964960126646,{"$f":"Cwavepoint(Parms!$L$3:$M$52,Waveforms!$A233,512)","v":41.079847656172596},{"$f":"Cwavepoint(Parms!$N$3:$O$52,Waveforms!$A233,512)","v":5.5135552274033719},null,1687.5538834543493,30.399291245627047,226.49600878562458]
[232,163.125,2.8470683423157501,{"$f":"Cwavepoint(Parms!$L$3:$M$52,Waveforms!$A234,512)","v":38.724537168554761},{"$f":"Cwavepoint(Parms!$N$3:$O$52,Waveforms!$A234,512)","v":5.5454766805806468},null,1499.5897789187791,30.75231161486375,214.74601783449893]
[233,163.828125,2.8593401886188352,{"$f":"Cwavepoint(Parms!$L$3:$M$52,Waveforms!$A235,512)","v":36.37738014174414},{"$f":"Cwavepoint(Parms!$N$3:$O$52,Waveforms!$A235,512)","v":5.5704919915194155},null,1323.3137859769608,31.030381027581946,202.63990475204315]
[234,164.53125,2.8716120349219199,{"$f":"Cwavepoint(Parms!$L$3:$M$52,Waveforms!$A236,512)","v":34.048230332840859},{"$f":"Cwavepoint(Parms!$N$3:$O$52,Waveforms!$A236,512)","v":5.5857124402976135},null,1159.2819887981843,31.20018346569552,190.18362374026773]
[235,165.234375,2.8838838812250054,{"$f":"Cwavepoint(Parms!$L$3:$M$52,Waveforms!$A237,512)","v":31.747150721440843},{"$f":"Cwavepoint(Parms!$N$3:$O$52,Waveforms!$A237,512)","v":5.5882124812696059},null,1007.8815789298818,31.228118735817407,177.4098239063031]
[236,165.9375,2.8961557275280905,{"$f":"Cwavepoint(Parms!$L$3:$M$52,Waveforms!$A238,512)","v":29.484200961162021},{"$f":"Cwavepoint(Parms!$N$3:$O$52,Waveforms!$A238,512)","v":5.5750920935101522},null,869.31810631818746,31.08165185111941,164.37713566203882]
[237,166.640625,2.9084275738311756,{"$f":"Cwavepoint(Parms!$L$3:$M$52,Waveforms!$A239,512)","v":27.269220071394741},{"$f":"Cwavepoint(Parms!$N$3:$O$52,Waveforms!$A239,512)","v":5.5435401132830702},null,743.61036330215779,30.730836987578474,151.16801532372057]
[238,167.34375,2.9206994201342606,{"$f":"Cwavepoint(Parms!$L$3:$M$52,Waveforms!$A240,512)","v":25.111609264082464},{"$f":"Cwavepoint(Parms!$N$3:$O$52,Waveforms!$A240,512)","v":5.4908971532040942},null,630.59291983195226,30.149951547064827,137.88526382052396]
[239,168.046875,2.9329712664373462,{"$f":"Cwavepoint(Parms!$L$3:$M$52,Waveforms!$A241,512)","v":23.020119846436373},{"$f":"Cwavepoint(Parms!$N$3:$O$52,Waveforms!$A241,512)","v":5.4147167064650326},null,529.92591774429377,29.319157011271528,124.64742751732629]
[240,168.75,2.9452431127404313,{"$f":"Cwavepoint(Parms!$L$3:$M$52,Waveforms!$A242,512)","v":21.002651071505529},{"$f":"Cwavepoint(Parms!$N$3:$O$52,Waveforms!$A242,512)","v":5.3128230602302313},null,441.11135203141231,28.226088869314122,111.58336893866375]
[241,169.453125,2.9575149590435159,{"$f":"Cwavepoint(Parms!$L$3:$M$52,Waveforms!$A243,512)","v":19.066062625419502},{"$f":"Cwavepoint(Parms!$N$3:$O$52,Waveforms!$A243,512)","v":5.1833646997249447},null,363.51474403641839,26.867269610354665,98.826355975344541]
[242,170.15625,2.9697868053466014,{"$f":"Cwavepoint(Parms!$L$3:$M$52,Waveforms!$A244,512)","v":17.216006146565874},{"$f":"Cwavepoint(Parms!$N$3:$O$52,Waveforms!$A244,512)","v":5.0248619724821495},null,296.39086763859399,25.249237842497198,86.508054603897804]
[243,170.859375,2.9820586516496865,{"$f":"Cwavepoint(Parms!$L$3:$M$52,Waveforms!$A245,512)","v":15.456779774286714},{"$f":"Cwavepoint(Parms!$N$3:$O$52,Waveforms!$A245,512)","v":4.8362478988523643},null,238.91204099079883,23.38929373915391,74.752818706417841]
[244,171.5625,2.9943304979527712,{"$f":"Cwavepoint(Parms!$L$3:$M$52,Waveforms!$A246,512)","v":13.79120923170165},{"$f":"Cwavepoint(Parms!$N$3:$O$52,Waveforms!$A246,512)","v":4.6169011576807675},null,190.19745207257282,21.31577629979401,63.672649867661036]
[245,172.265625,3.0066023442558567,{"$f":"Cwavepoint(Parms!$L$3:$M$52,Waveforms!$A247,512)","v":12.220558370121182},{"$f":"Cwavepoint(Parms!$N$3:$O$52,Waveforms!$A247,512)","v":4.3666704418656002},null,149.34204687753888,19.067810747862715,53.363151017901423]
[246,172.96875,3.0188741905589418,{"$f":"Cwavepoint(Parms!$L$3:$M$52,Waveforms!$A248,512)","v":10.744471454372423},{"$f":"Cwavepoint(Parms!$N$3:$O$52,Waveforms!$A248,512)","v":4.0858895636264023},null,115.44366683382385,16.694493526151152,43.900723782102077]
[247,173.671875,3.0311460368620273,{"$f":"Cwavepoint(Parms!$L$3:$M$52,Waveforms!$A249,512)","v":9.3609487641273645},{"$f":"Cwavepoint(Parms!$N$3:$O$52,Waveforms!$A249,512)","v":3.7753828895593062},null,87.627361764617632,14.253515962777177,35.341165794127789]
[248,174.375,3.043417883165112,{"$f":"Cwavepoint(Parms!$L$3:$M$52,Waveforms!$A250,512)","v":8.0663563422839637},{"$f":"Cwavepoint(Parms!$N$3:$O$52,Waveforms!$A250,512)","v":3.4364608963992471},null,65.066104640704722,11.809263492481117,27.719718146680901]
[249,175.078125,3.0556897294681971,{"$f":"Cwavepoint(Parms!$L$3:$M$52,Waveforms!$A251,512)","v":6.8554699548862903},{"$f":"Cwavepoint(Parms!$N$3:$O$52,Waveforms!$A251,512)","v":3.0709058550409285},null,46.997468302348636,9.430462770524656,21.052502823517479]
[250,175.78125,3.0679615757712826,{"$f":"Cwavepoint(Parms!$L$3:$M$52,Waveforms!$A252,512)","v":5.7215525558454816},{"$f":"Cwavepoint(Parms!$N$3:$O$52,Waveforms!$A252,512)","v":2.6809478678374594},null,32.736163649301965,7.1874814700622194,15.33918412531391]
[251,176.484375,3.0802334220743672,{"$f":"Cwavepoint(Parms!$L$3:$M$52,Waveforms!$A253,512)","v":4.6564637918579059},{"$f":"Cwavepoint(Parms!$N$3:$O$52,Waveforms!$A253,512)","v":2.2692316975069375},null,21.682655044883706,5.1494124969702169,10.566595234777306]
[252,177.1875,3.0925052683774528,{"$f":"Cwavepoint(Parms!$L$3:$M$52,Waveforms!$A254,512)","v":3.6507993561664644},{"$f":"Cwavepoint(Parms!$N$3:$O$52,Waveforms!$A254,512)","v":1.8387750302273336},null,13.328335938985472,3.3810936117875316,6.7129986964889206]
[253,177.890625,3.1047771146805379,{"$f":"Cwavepoint(Parms!$L$3:$M$52,Waveforms!$A255,512)","v":2.6940573212202614},{"$f":"Cwavepoint(Parms!$N$3:$O$52,Waveforms!$A255,512)","v":1.3929190059794792},null,7.2579448500204906,1.9402233572188603,3.7526036459258649]
[254,178.59375,3.1170489609836225,{"$f":"Cwavepoint(Parms!$L$3:$M$52,Waveforms!$A256,512)","v":1.7748279658075488},{"$f":"Cwavepoint(Parms!$N$3:$O$52,Waveforms!$A256,512)","v":0.93527202150917965},null,3.1500143082125613,0.87473375421786737,1.6599469394118513]
[255,179.296875,3.129320807286708,{"$f":"Cwavepoint(Parms!$L$3:$M$52,Waveforms!$A257,512)","v":0.88100307632117913},{"$f":"Cwavepoint(Parms!$N$3:$O$52,Waveforms!$A257,512)","v":0.46964796143771925},null,0.77616642048738138,0.22056920768260543,0.41376129881460116]
[256,180,3.1415926535897931,{"$f":"Cwavepoint(Parms!$L$3:$M$52,Waveforms!$A258,512)","v":2.570858174884244E-7},{"$f":"Cwavepoint(Parms!$N$3:$O$52,Waveforms!$A258,512)","v":1.3757948839886653E-7},null,6.609311755369146E-14,1.8928115628093851E-14,3.5369735244661804E-14]
[257,{"$f":"360*A259/512","v":180.703125},{"$f":"B259*PI()/180","v":3.1538644998928786},{"$f":"Cwavepoint(Parms!$L$3:$M$52,Waveforms!$A259,512)","v":-0.88100255838709163},{"$f":"Cwavepoint(Parms!$N$3:$O$52,Waveforms!$A259,512)","v":-0.46964768745922381},null,{"$f":"D259*D259","v":0.77616550788460081},{"$f":"E259*E259","v":0.22056895033579677},{"$f":"D259*E259","v":0.41376081419215738}]
[{"$f":"A259+1","v":258},181.40625,3.1661363461959633,{"$f":"Cwavepoint(Parms!$L$3:$M$52,Waveforms!$A260,512)","v":-1.7748274366563583},{"$f":"Cwavepoint(Parms!$N$3:$O$52,Waveforms!$A260,512)","v":-0.93527175105148397},null,3.1500124299081795,0.87473324831490895,1.659945964495809]
[259,182.109375,3.1784081924990484,{"$f":"Cwavepoint(Parms!$L$3:$M$52,Waveforms!$A261,512)","v":-2.6940567736069725},{"$f":"Cwavepoint(Parms!$N$3:$O$52,Waveforms!$A261,512)","v":-1.3929187413212649},null,7.2579418994176104,1.9402226199240169,3.7526021701406522]
[260,182.8125,3.1906800388021339,{"$f":"Cwavepoint(Parms!$L$3:$M$52,Waveforms!$A262,512)","v":-3.6507987831903175},{"$f":"Cwavepoint(Parms!$N$3:$O$52,Waveforms!$A262,512)","v":-1.838774773546044},null,13.328331755343903,3.3810926678293054,6.7129967058229489]
[261,183.515625,3.2029518851052186,{"$f":"Cwavepoint(Parms!$L$3:$M$52,Waveforms!$A263,512)","v":-4.6564631870896811},{"$f":"Cwavepoint(Parms!$N$3:$O$52,Waveforms!$A263,512)","v":-2.2692314508412528},null,21.682649412721389,5.1494113774870973,10.566592713828401]
[262,184.21875,3.2152237314083036,{"$f":"Cwavepoint(Parms!$L$3:$M$52,Waveforms!$A264,512)","v":-5.7215519134447517},{"$f":"Cwavepoint(Parms!$N$3:$O$52,Waveforms!$A264,512)","v":-2.6809476330526412},null,32.736156298243301,7.1874802111705591,15.339181059737516]
[263,184.921875,3.2274955777113892,{"$f":"Cwavepoint(Parms!$L$3:$M$52,Waveforms!$A265,512)","v":-6.855469269705849},{"$f":"Cwavepoint(Parms!$N$3:$O$52,Waveforms!$A265,512)","v":-3.0709056337978464},null,46.997458907881246,9.4304614116913523,21.0524992026677]
[264,185.625,3.2397674240144743,{"$f":"Cwavepoint(Parms!$L$3:$M$52,Waveforms!$A266,512)","v":-8.0663556099596558},{"$f":"Cwavepoint(Parms!$N$3:$O$52,Waveforms!$A266,512)","v":-3.4364606901275763},null,65.066092826327605,11.809262074792098,27.719713966216407]
[265,186.328125,3.2520392703175593,{"$f":"Cwavepoint(Parms!$L$3:$M$52,Waveforms!$A267,512)","v":-9.3609479811511065},{"$f":"Cwavepoint(Parms!$N$3:$O$52,Waveforms!$A267,512)","v":-3.7753826994355455},null,87.62734710581698,14.253514527197227,35.341161058353983]
[266,187.03125,3.2643111166206444,{"$f":"Cwavepoint(Parms!$L$3:$M$52,Waveforms!$A268,512)","v":-10.744470618147041},{"$f":"Cwavepoint(Parms!$N$3:$O$52,Waveforms!$A268,512)","v":-4.0858893905571296},null,115.44364886422505,16.694492111867312,43.900718505839798]
[267,187.734375,3.27658296292373,{"$f":"Cwavepoint(Parms!$L$3:$M$52,Waveforms!$A269,512)","v":-12.220557478996078},{"$f":"Cwavepoint(Parms!$N$3:$O$52,Waveforms!$A269,512)","v":-4.3666702864762179},null,149.34202509744696,19.067809390794295,53.363145227706887]
[268,188.4375,3.2888548092268146,{"$f":"Cwavepoint(Parms!$L$3:$M$52,Waveforms!$A270,512)","v":-13.791208284988517},{"$f":"Cwavepoint(Parms!$N$3:$O$52,Waveforms!$A270,512)","v":-4.6169010203100216},null,190.19742595993591,21.315775031339719,63.672643602271506]
[269,189.140625,3.3011266555298997,{"$f":"Cwavepoint(Parms!$L$3:$M$52,Waveforms!$A271,512)","v":-15.456778772255223},{"$f":"Cwavepoint(Parms!$N$3:$O$52,Waveforms!$A271,512)","v":-4.836247779552636},null,238.91201001443969,23.389292585227803,74.752812016355648]
[270,189.84375,3.3133985018329852,{"$f":"Cwavepoint(Parms!$L$3:$M$52,Waveforms!$A272,512)","v":-17.216005090419543},{"$f":"Cwavepoint(Parms!$N$3:$O$52,Waveforms!$A272,512)","v":-5.0248618710254878},null,296.39083127335164,25.249236822885766,86.508047550229861]
[271,190.546875,3.3256703481360699,{"$f":"Cwavepoint(Parms!$L$3:$M$52,Waveforms!$A273,512)","v":-19.066061517252422},{"$f":"Cwavepoint(Parms!$N$3:$O$52,Waveforms!$A273,512)","v":-5.1833646156146775},null,363.51470177965371,26.867268738406295,98.826348627658888]
[272,191.25,3.337942194439155,{"$f":"Cwavepoint(Parms!$L$3:$M$52,Waveforms!$A274,512)","v":-21.002649914241186},{"$f":"Cwavepoint(Parms!$N$3:$O$52,Waveforms!$A274,512)","v":-5.3128229927177992},null,441.11130342017526,28.226088151950911,111.58336137238308]
[273,191.953125,3.3502140407422405,{"$f":"Cwavepoint(Parms!$L$3:$M$52,Waveforms!$A275,512)","v":-23.020118643749985},{"$f":"Cwavepoint(Parms!$N$3:$O$52,Waveforms!$A275,512)","v":-5.4147166545716559},null,529.9258623723257,29.319156449295665,124.64741981052852]
[274,192.65625,3.3624858870453256,{"$f":"Cwavepoint(Parms!$L$3:$M$52,Waveforms!$A276,512)","v":-25.111608020308804},{"$f":"Cwavepoint(Parms!$N$3:$O$52,Waveforms!$A276,512)","v":-5.4908971157467681},null,630.59285736563743,30.149951135716176,137.88525605047701]
[275,193.359375,3.3747577333484102,{"$f":"Cwavepoint(Parms!$L$3:$M$52,Waveforms!$A277,512)","v":-27.269218791423562},{"$f":"Cwavepoint(Parms!$N$3:$O$52,Waveforms!$A277,512)","v":-5.5435400889042388},null,743.61029349452792,30.730836717288415,151.16800756335732]
[276,194.0625,3.3870295796514958,{"$f":"Cwavepoint(Parms!$L$3:$M$52,Waveforms!$A278,512)","v":-29.484199650323646},{"$f":"Cwavepoint(Parms!$N$3:$O$52,Waveforms!$A278,512)","v":-5.5750920807103945},null,869.31802902014499,31.081651708399757,164.37712797660353]
[277,194.765625,3.3993014259545808,{"$f":"Cwavepoint(Parms!$L$3:$M$52,Waveforms!$A279,512)","v":-31.747149385384461},{"$f":"Cwavepoint(Parms!$N$3:$O$52,Waveforms!$A279,512)","v":-5.5882124784425935},null,1007.881494097917,31.228118704221515,177.40981635038656]
[278,195.46875,3.4115732722576655,{"$f":"Cwavepoint(Parms!$L$3:$M$52,Waveforms!$A280,512)","v":-34.048228977408606},{"$f":"Cwavepoint(Parms!$N$3:$O$52,Waveforms!$A280,512)","v":-5.5857124457665028},null,1159.281896498047,31.200183526790806,190.18361635541893]
[279,196.171875,3.423845118560751,{"$f":"Cwavepoint(Parms!$L$3:$M$52,Waveforms!$A281,512)","v":-36.377378772843379},{"$f":"Cwavepoint(Parms!$N$3:$O$52,Waveforms!$A281,512)","v":-5.5704920035739498},null,1323.3136863829161,31.030381161881319,202.63989756510477]
[280,196.875,3.4361169648638361,{"$f":"Cwavepoint(Parms!$L$3:$M$52,Waveforms!$A282,512)","v":-38.724535792031936},{"$f":"Cwavepoint(Parms!$N$3:$O$52,Waveforms!$A282,512)","v":-5.5454766975140286},null,1499.5896723083624,30.752311802671098,214.74601085676107]
[281,197.578125,3.4483888111669216,{"$f":"Cwavepoint(Parms!$L$3:$M$52,Waveforms!$A283,512)","v":-41.079846277691203},{"$f":"Cwavepoint(Parms!$N$3:$O$52,Waveforms!$A283,512)","v":-5.5135552475481999},null,1687.5537701987398,30.399291467766293,226.49600201283772]
[282,198.28125,3.4606606574700063,{"$f":"Cwavepoint(Parms!$L$3:$M$52,Waveforms!$A284,512)","v":-43.433868748202094},{"$f":"Cwavepoint(Parms!$N$3:$O$52,Waveforms!$A284,512)","v":-5.4775195368797789},null,1886.5009544360466,30.003220276899668,237.90986463054904]
[283,198.984375,3.4729325037730918,{"$f":"Cwavepoint(Parms!$L$3:$M$52,Waveforms!$A285,512)","v":-45.777763088520082},{"$f":"Cwavepoint(Parms!$N$3:$O$52,Waveforms!$A285,512)","v":-5.4400082290568754},null,2095.6035933886715,29.593689532206522,249.03140790936533]
[284,199.6875,3.4852043500761769,{"$f":"Cwavepoint(Parms!$L$3:$M$52,Waveforms!$A286,512)","v":-48.103461581541517},{"$f":"Cwavepoint(Parms!$N$3:$O$52,Waveforms!$A286,512)","v":-5.4034552047380719},null,2313.9430161268406,29.197328149610961,259.92489984869837]
[285,200.390625,3.4974761963792615,{"$f":"Cwavepoint(Parms!$L$3:$M$52,Waveforms!$A287,512)","v":-50.403818245190671},{"$f":"Cwavepoint(Parms!$N$3:$O$52,Waveforms!$A287,512)","v":-5.3700438860170552},null,2540.5448936942157,28.837371337749154,270.67071599950106]
[286,201.09375,3.5097480426823471,{"$f":"Cwavepoint(Parms!$L$3:$M$52,Waveforms!$A288,512)","v":-52.67273338376576},{"$f":"Cwavepoint(Parms!$N$3:$O$52,Waveforms!$A288,512)","v":-5.3416683693980502},null,2774.4168421172722,28.533420968627624,281.3602738457983]
[287,201.796875,3.5220198889854322,{"$f":"Cwavepoint(Parms!$L$3:$M$52,Waveforms!$A289,512)","v":-54.905250872798838},{"$f":"Cwavepoint(Parms!$N$3:$O$52,Waveforms!$A289,512)","v":-5.3199021220939171},null,3014.5865734049776,28.301358588659362,292.09056063230145]
[288,202.5,3.5342917352885168,{"$f":"Cwavepoint(Parms!$L$3:$M$52,Waveforms!$A290,512)","v":-57.097626359912198},{"$f":"Cwavepoint(Parms!$N$3:$O$52,Waveforms!$A290,512)","v":-5.3059748143110763},null,3260.1389359361401,28.153368730103463,302.95856742263834]
[289,203.203125,3.5465635815916023,{"$f":"Cwavepoint(Parms!$L$3:$M$52,Waveforms!$A291,512)","v":-59.247365263803218},{"$f":"Cwavepoint(Parms!$N$3:$O$52,Waveforms!$A291,512)","v":-5.3007576669548806},null,3510.2502907025159,28.098031843780948,314.05592566898116]
[290,203.90625,3.5588354278946874,{"$f":"Cwavepoint(Parms!$L$3:$M$52,Waveforms!$A292,512)","v":-61.353230172711619},{"$f":"Cwavepoint(Parms!$N$3:$O$52,Waveforms!$A292,512)","v":-5.3047574943297775},null,3764.2188526257314,28.140452073647939,325.4640075600318]
[291,204.609375,3.571107274197773,{"$f":"Cwavepoint(Parms!$L$3:$M$52,Waveforms!$A293,512)","v":-63.415217965312806},{"$f":"Cwavepoint(Parms!$N$3:$O$52,Waveforms!$A293,512)","v":-5.3181194196337582},null,4021.489869588132,28.282394161485701,337.24970216163763]
[292,205.3125,3.5833791205008576,{"$f":"Cwavepoint(Parms!$L$3:$M$52,Waveforms!$A294,512)","v":-65.434507683796753},{"$f":"Cwavepoint(Parms!$N$3:$O$52,Waveforms!$A294,512)","v":-5.3406380420769706},null,4281.6747958208562,28.522414696479739,349.46202100066279]
[293,206.015625,3.5956509668039427,{"$f":"Cwavepoint(Parms!$L$3:$M$52,Waveforms!$A295,512)","v":-67.413380864269541},{"$f":"Cwavepoint(Parms!$N$3:$O$52,Waveforms!$A295,512)","v":-5.3717766429041394},null,4544.563919551063,28.855984301250466,362.12962474588397]
[294,206.71875,3.6079228131070282,{"$f":"Cwavepoint(Parms!$L$3:$M$52,Waveforms!$A296,512)","v":-69.355116657760661},{"$f":"Cwavepoint(Parms!$N$3:$O$52,Waveforms!$A296,512)","v":-5.4106938378699132},null,4810.1322066115899,29.27560780716345,375.25930232489458]
[295,207.421875,3.6201946594101129,{"$f":"Cwavepoint(Parms!$L$3:$M$52,Waveforms!$A297,512)","v":-71.263864641497491},{"$f":"Cwavepoint(Parms!$N$3:$O$52,Waveforms!$A297,512)","v":-5.4562769198882251},null,5078.5384036416763,29.770957826504937,388.83537986544133]
[296,208.125,3.6324665057131984,{"$f":"Cwavepoint(Parms!$L$3:$M$52,Waveforms!$A298,512)","v":-73.144498711768222},{"$f":"Cwavepoint(Parms!$N$3:$O$52,Waveforms!$A298,512)","v":-5.5071809913212446},null,5350.1176917958628,30.329042471170048,402.81999292517122]
[297,208.828125,3.6447383520162835,{"$f":"Cwavepoint(Parms!$L$3:$M$52,Waveforms!$A299,512)","v":-75.002455855585609},{"$f":"Cwavepoint(Parms!$N$3:$O$52,Waveforms!$A299,512)","v":-5.561872863864715},null,5625.3683843690678,30.934429753794685,417.15412394639282]
[298,209.53125,3.657010198319369,{"$f":"Cwavepoint(Parms!$L$3:$M$52,Waveforms!$A300,512)","v":-76.84356390958601},{"$f":"Cwavepoint(Parms!$N$3:$O$52,Waveforms!$A300,512)","v":-5.6186786078306517},null,5904.9333143266294,31.56954929809379,431.75928868825844]
[299,210.234375,3.6692820446224537,{"$f":"Cwavepoint(Parms!$L$3:$M$52,Waveforms!$A301,512)","v":-78.673862624598129},{"$f":"Cwavepoint(Parms!$N$3:$O$52,Waveforms!$A301,512)","v":-5.6758335638051882},null,6189.5766602741387,32.215086644017504,446.53975007889261]
[300,210.9375,3.6815538909255388,{"$f":"Cwavepoint(Parms!$L$3:$M$52,Waveforms!$A302,512)","v":-80.499422459033028},{"$f":"Cwavepoint(Parms!$N$3:$O$52,Waveforms!$A302,512)","v":-5.7315335894834307},null,6480.1570162378712,32.850477287376819,461.38514375796467]
[301,211.640625,3.6938257372286243,{"$f":"Cwavepoint(Parms!$L$3:$M$52,Waveforms!$A303,512)","v":-82.3261655221974},{"$f":"Cwavepoint(Parms!$N$3:$O$52,Waveforms!$A303,512)","v":-5.7839863035734096},null,6777.5975295882436,33.454497559924796,476.17341380610719]
[302,212.34375,3.7060975835317089,{"$f":"Cwavepoint(Parms!$L$3:$M$52,Waveforms!$A304,512)","v":-84.159692980914002},{"$f":"Cwavepoint(Parms!$N$3:$O$52,Waveforms!$A304,512)","v":-5.8314611069379065},null,7082.8539226417051,34.005938641729472,490.7739763900351]
[303,213.046875,3.718369429834794,{"$f":"Cwavepoint(Parms!$L$3:$M$52,Waveforms!$A305,512)","v":-86.005123033089049},{"$f":"Cwavepoint(Parms!$N$3:$O$52,Waveforms!$A305,512)","v":-5.8723368078311395},null,7396.881187936784,34.484339584608421,505.05104964925454]
[304,213.75,3.7306412761378795,{"$f":"Cwavepoint(Parms!$L$3:$M$52,Waveforms!$A306,512)","v":-87.866943246177101},{"$f":"Cwavepoint(Parms!$N$3:$O$52,Waveforms!$A306,512)","v":-5.9051457517456987},null,7720.599715426908,34.870746349360275,518.86710662904306]
[305,214.453125,3.7429131224409642,{"$f":"Cwavepoint(Parms!$L$3:$M$52,Waveforms!$A307,512)","v":-89.748880665200389},{"$f":"Cwavepoint(Parms!$N$3:$O$52,Waveforms!$A307,512)","v":-5.9286134549442915},null,8054.8615806563803,35.148457498146492,532.08642147789658]
[306,215.15625,3.7551849687440493,{"$f":"Cwavepoint(Parms!$L$3:$M$52,Waveforms!$A308,512)","v":-91.653792624469332},{"$f":"Cwavepoint(Parms!$N$3:$O$52,Waveforms!$A308,512)","v":-5.9416928615717319},null,8400.4177024492292,35.303714061252478,544.57868537278523]
[307,215.859375,3.7674568150471348,{"$f":"Cwavepoint(Parms!$L$3:$M$52,Waveforms!$A309,512)","v":-93.58358066159154},{"$f":"Cwavepoint(Parms!$N$3:$O$52,Waveforms!$A309,512)","v":-5.9435924841822088},null,8757.8865694446104,35.326291618027241,556.22266666309497]
[308,216.5625,3.7797286613502199,{"$f":"Cwavepoint(Parms!$L$3:$M$52,Waveforms!$A310,512)","v":-95.539129345369048},{"$f":"Cwavepoint(Parms!$N$3:$O$52,Waveforms!$A310,512)","v":-5.9337978430137666},null,9127.7252360711573,35.209956841754831,566.90987963296413]
[309,217.265625,3.792000507653305,{"$f":"Cwavepoint(Parms!$L$3:$M$52,Waveforms!$A311,512)","v":-97.520271205516323},{"$f":"Cwavepoint(Parms!$N$3:$O$52,Waveforms!$A311,512)","v":-5.9120857865007785},null,9510.2032959974567,34.952758346944528,576.54820928983418]
[310,217.96875,3.8042723539563901,{"$f":"Cwavepoint(Parms!$L$3:$M$52,Waveforms!$A312,512)","v":-99.525778307275573},{"$f":"Cwavepoint(Parms!$N$3:$O$52,Waveforms!$A312,512)","v":-5.8785314502101427},null,9905.3805476689649,34.557132011109765,585.06541788596178]
[311,218.671875,3.8165442002594756,{"$f":"Cwavepoint(Parms!$L$3:$M$52,Waveforms!$A313,512)","v":-101.55338036381171},{"$f":"Cwavepoint(Parms!$N$3:$O$52,Waveforms!$A313,512)","v":-5.8335077893583174},null,10313.089063317018,34.029813128504166,592.41243538796357]
[312,219.375,3.8288160465625602,{"$f":"Cwavepoint(Parms!$L$3:$M$52,Waveforms!$A314,512)","v":-103.59980863956733},{"$f":"Cwavepoint(Parms!$N$3:$O$52,Waveforms!$A314,512)","v":-5.7776777970291855},null,10732.920350154969,33.381560726284022,598.5663141533006]
[313,220.078125,3.8410878928656453,{"$f":"Cwavepoint(Parms!$L$3:$M$52,Waveforms!$A315,512)","v":-105.66086428394945},{"$f":"Cwavepoint(Parms!$N$3:$O$52,Waveforms!$A315,512)","v":-5.711979691958935},null,11164.218241231185,32.626712001351287,603.53271102474844]
[314,220.78125,3.8533597391687309,{"$f":"Cwavepoint(Parms!$L$3:$M$52,Waveforms!$A316,512)","v":-107.73150916142029},{"$f":"Cwavepoint(Parms!$N$3:$O$52,Waveforms!$A316,512)","v":-5.637605522253053},null,11606.078066197184,31.782596024538119,607.34775096907845]
[315,221.484375,3.865631585471816,{"$f":"Cwavepoint(Parms!$L$3:$M$52,Waveforms!$A317,512)","v":-109.80597672474927},{"$f":"Cwavepoint(Parms!$N$3:$O$52,Waveforms!$A317,512)","v":-5.555973780896684},null,12057.352524476179,30.868844654011394,610.07912766845845]
[316,222.1875,3.8779034317749006,{"$f":"Cwavepoint(Parms!$L$3:$M$52,Waveforms!$A318,512)","v":-111.87790002485453},{"$f":"Cwavepoint(Parms!$N$3:$O$52,Waveforms!$A318,512)","v":-5.4686967620186877},null,12516.664513971344,29.906644274913681,611.82630960737242]
[317,222.890625,3.8901752780779861,{"$f":"Cwavepoint(Parms!$L$3:$M$52,Waveforms!$A319,512)","v":-113.94045357358175},{"$f":"Cwavepoint(Parms!$N$3:$O$52,Waveforms!$A319,512)","v":-5.3775435006183017},null,12982.426960553537,28.917974101042137,612.71974557211593]
[318,223.59375,3.9024471243810712,{"$f":"Cwavepoint(Parms!$L$3:$M$52,Waveforms!$A320,512)","v":-115.98650548321874},{"$f":"Cwavepoint(Parms!$N$3:$O$52,Waveforms!$A320,512)","v":-5.2843992304146861},null,13452.869454208731,27.924875226407327,612.91900031400985]
[319,224.296875,3.9147189706841559,{"$f":"Cwavepoint(Parms!$L$3:$M$52,Waveforms!$A321,512)","v":-118.00877610463132},{"$f":"Cwavepoint(Parms!$N$3:$O$52,Waveforms!$A321,512)","v":-5.191222362747709},null,13926.071237713004,26.948789619491905,612.60979751484956]
[320,225,3.9269908169872414,{"$f":"Cwavepoint(Parms!$L$3:$M$52,Waveforms!$A322,512)","v":-119.9999992784516},{"$f":"Cwavepoint(Parms!$N$3:$O$52,Waveforms!$A322,512)","v":-5.1000000327568609},null,14399.999826828383,26.010000334119983,612.0000002509264]
[321,{"$f":"360*A323/512","v":225.703125},{"$f":"B323*PI()/180","v":3.9392626632903265},{"$f":"Cwavepoint(Parms!$L$3:$M$52,Waveforms!$A323,512)","v":-121.95308230219487},{"$f":"Cwavepoint(Parms!$N$3:$O$52,Waveforms!$A323,512)","v":-5.0127032767311137},null,{"$f":"D323*D323","v":14872.554283005917},{"$f":"E323*E323","v":25.127194140550845},{"$f":"D323*E323","v":611.31461526367139}]
[{"$f":"A323+1","v":322},226.40625,3.951534509593412,{"$f":"Cwavepoint(Parms!$L$3:$M$52,Waveforms!$A324,512)","v":-123.8612607996002},{"$f":"Cwavepoint(Parms!$N$3:$O$52,Waveforms!$A324,512)","v":-4.9312428965252444},null,15341.611926866577,24.317156504530683,610.78996247268924]
[323,227.109375,3.9638063558964967,{"$f":"Cwavepoint(Parms!$L$3:$M$52,Waveforms!$A325,512)","v":-125.71824485361105},{"$f":"Cwavepoint(Parms!$N$3:$O$52,Waveforms!$A325,512)","v":-4.8574270338714012},null,15805.077089072502,23.594597389384717,610.66720120279444]
[324,227.8125,3.9760782021995817,{"$f":"Cwavepoint(Parms!$L$3:$M$52,Waveforms!$A326,512)","v":-127.51835302575269},{"$f":"Cwavepoint(Parms!$N$3:$O$52,Waveforms!$A326,512)","v":-4.7929214204738262},null,16260.93035840049,22.972095742836839,611.18544572067344]
[325,228.515625,3.9883500485026673,{"$f":"Cwavepoint(Parms!$L$3:$M$52,Waveforms!$A327,512)","v":-129.25663122465508},{"$f":"Cwavepoint(Parms!$N$3:$O$52,Waveforms!$A327,512)","v":-4.7392131907204407},null,16707.276715546479,22.460141667098618,612.57473168797299]
[326,229.21875,4.0006218948057519,{"$f":"Cwavepoint(Parms!$L$3:$M$52,Waveforms!$A328,512)","v":-130.92895379570763},{"$f":"Cwavepoint(Parms!$N$3:$O$52,Waveforms!$A328,512)","v":-4.6975790449508237},null,17142.390942038543,22.067248883561092,615.04910972805078]
[327,229.921875,4.0128937411088375,{"$f":"Cwavepoint(Parms!$L$3:$M$52,Waveforms!$A329,512)","v":-132.53210467129054},{"$f":"Cwavepoint(Parms!$N$3:$O$52,Waveforms!$A329,512)","v":-4.6690584352110651},null,17564.758768601911,21.800106671415598,618.8001412517649]
[328,230.625,4.025165587411923,{"$f":"Cwavepoint(Parms!$L$3:$M$52,Waveforms!$A330,512)","v":-134.06383693438281},{"$f":"Cwavepoint(Parms!$N$3:$O$52,Waveforms!$A330,512)","v":-4.6544323154032776},null,17973.112373568783,21.663740178670317,623.99105495434685]
[329,231.328125,4.0374374337150076,{"$f":"Cwavepoint(Parms!$L$3:$M$52,Waveforms!$A331,512)","v":-135.5229096942856},{"$f":"Cwavepoint(Parms!$N$3:$O$52,Waveforms!$A331,512)","v":-4.6542078570989478},null,18366.459052005492,21.661650777081579,630.75179111605519]
[330,232.03125,4.0497092800180923,{"$f":"Cwavepoint(Parms!$L$3:$M$52,Waveforms!$A332,512)","v":-136.90910173775458},{"$f":"Cwavepoint(Parms!$N$3:$O$52,Waveforms!$A332,512)","v":-4.6686093846342382},null,18744.102138638835,21.79591358629488,639.17511721472476]
[331,232.734375,4.0619811263211778,{"$f":"Cwavepoint(Parms!$L$3:$M$52,Waveforms!$A333,512)","v":-138.22320198777575},{"$f":"Cwavepoint(Parms!$N$3:$O$52,Waveforms!$A333,512)","v":-4.6975756321605466},null,19105.653567753456,22.067216819868559,649.3139454569806]
[332,233.4375,4.0742529726242633,{"$f":"Cwavepoint(Parms!$L$3:$M$52,Waveforms!$A334,512)","v":-139.46697736135559},{"$f":"Cwavepoint(Parms!$N$3:$O$52,Waveforms!$A334,512)","v":-4.7407632748243058},null,19451.037774312874,22.474836427922877,661.17992432546748]
[333,234.140625,4.086524818927348,{"$f":"Cwavepoint(Parms!$L$3:$M$52,Waveforms!$A335,512)","v":-140.64311915331109},{"$f":"Cwavepoint(Parms!$N$3:$O$52,Waveforms!$A335,512)","v":-4.7975565398619775},null,19780.486965172462,23.01654875317243,674.74331608055502]
[334,234.84375,4.0987966652304335,{"$f":"Cwavepoint(Parms!$L$3:$M$52,Waveforms!$A336,512)","v":-141.75516957213921},{"$f":"Cwavepoint(Parms!$N$3:$O$52,Waveforms!$A336,512)","v":-4.8670825646220042},null,20094.528100425941,23.688492690847504,689.93411426959437]
[335,235.546875,4.1110685115335182,{"$f":"Cwavepoint(Parms!$L$3:$M$52,Waveforms!$A337,512)","v":-142.80743050476894},{"$f":"Cwavepoint(Parms!$N$3:$O$52,Waveforms!$A337,512)","v":-4.9482320406201934},null,20393.96220737441,24.485000327820284,706.64430326233924]
[336,236.25,4.1233403578366028,{"$f":"Cwavepoint(Parms!$L$3:$M$52,Waveforms!$A338,512)","v":-143.80485697881525},{"$f":"Cwavepoint(Parms!$N$3:$O$52,Waveforms!$A338,512)","v":-5.0396845686252743},null,20679.836890697508,25.398420551239717,724.73111860949984]
[337,236.953125,4.1356122041396883,{"$f":"Cwavepoint(Parms!$L$3:$M$52,Waveforms!$A339,512)","v":-144.75293811501177},{"$f":"Cwavepoint(Parms!$N$3:$O$52,Waveforms!$A339,512)","v":-5.1399380519917237},null,20953.413092928429,26.418963178312474,744.02113475495219]
[338,237.65625,4.1478840504427739,{"$f":"Cwavepoint(Parms!$L$3:$M$52,Waveforms!$A340,512)","v":-145.65756861172829},{"$f":"Cwavepoint(Parms!$N$3:$O$52,Waveforms!$A340,512)","v":-5.2473413760872729},null,21216.127293880334,27.534591517197477,764.31498651659274]
[339,238.359375,4.1601558967458594,{"$f":"Cwavepoint(Parms!$L$3:$M$52,Waveforms!$A341,512)","v":-146.52491397283802},{"$f":"Cwavepoint(Parms!$N$3:$O$52,Waveforms!$A341,512)","v":-5.3601295622863923},null,21469.550414747584,28.730988924496511,785.39252299727957]
[340,239.0625,4.172427743048944,{"$f":"Cwavepoint(Parms!$L$3:$M$52,Waveforms!$A342,512)","v":-147.36127277671036},{"$f":"Cwavepoint(Parms!$N$3:$O$52,Waveforms!$A342,512)","v":-5.476460546670868},null,21715.34471437204,29.991620119242583,807.01819646885815]
[341,239.765625,4.1846995893520296,{"$f":"Cwavepoint(Parms!$L$3:$M$52,Waveforms!$A343,512)","v":-148.17293928696094},{"$f":"Cwavepoint(Parms!$N$3:$O$52,Waveforms!$A343,512)","v":-5.5944527167999434},null,21955.219936937414,31.297901200510267,828.9465027501717]
[342,240.46875,4.1969714356551142,{"$f":"Cwavepoint(Parms!$L$3:$M$52,Waveforms!$A344,512)","v":-148.96606962609408},{"$f":"Cwavepoint(Parms!$N$3:$O$52,Waveforms!$A344,512)","v":-5.7122223446366291},null,22190.889899846308,32.62948411456599,850.92731151087048]
[343,241.171875,4.2092432819581989,{"$f":"Cwavepoint(Parms!$L$3:$M$52,Waveforms!$A345,512)","v":-149.74655457474452},{"$f":"Cwavepoint(Parms!$N$3:$O$52,Waveforms!$A345,512)","v":-5.8279200793554047},null,22424.030607006938,33.964652451353906,872.71095222044357]
[344,241.875,4.2215151282612844,{"$f":"Cwavepoint(Parms!$L$3:$M$52,Waveforms!$A346,512)","v":-150.51990182720684},{"$f":"Cwavepoint(Parms!$N$3:$O$52,Waveforms!$A346,512)","v":-5.9397657091995839},null,22656.240846071985,35.280816680183236,894.052951425331]
[345,242.578125,4.2337869745643699,{"$f":"Cwavepoint(Parms!$L$3:$M$52,Waveforms!$A347,512)","v":-151.29113023552793},{"$f":"Cwavepoint(Parms!$N$3:$O$52,Waveforms!$A347,512)","v":-6.046080465216602},null,22889.006087943475,36.555088991873802,914.71834707756625]
[346,243.28125,4.2460588208674546,{"$f":"Cwavepoint(Parms!$L$3:$M$52,Waveforms!$A348,512)","v":-152.06467821838604},{"$f":"Cwavepoint(Parms!$N$3:$O$52,Waveforms!$A348,512)","v":-6.1453162195517672},null,23123.66636166129,37.76491143828602,934.485533476368]
[347,243.984375,4.2583306671705401,{"$f":"Cwavepoint(Parms!$L$3:$M$52,Waveforms!$A349,512)","v":-152.844328107417},{"$f":"Cwavepoint(Parms!$N$3:$O$52,Waveforms!$A349,512)","v":-6.2360810246305718},null,23361.388634607742,38.888706545757479,953.14961423307227]
[348,244.6875,4.2706025134736247,{"$f":"Cwavepoint(Parms!$L$3:$M$52,Waveforms!$A350,512)","v":-153.63314776378684},{"$f":"Cwavepoint(Parms!$N$3:$O$52,Waveforms!$A350,512)","v":-6.3171605443047429},null,23603.144091809561,39.906517342520594,970.5252593507347]
[349,245.390625,4.2828743597767103,{"$f":"Cwavepoint(Parms!$L$3:$M$52,Waveforms!$A351,512)","v":-154.43345033359898},{"$f":"Cwavepoint(Parms!$N$3:$O$52,Waveforms!$A351,512)","v":-6.3875350409432725},null,23849.690581940184,40.800603899278173,986.44907549963602]
[350,246.09375,4.2951462060797949,{"$f":"Cwavepoint(Parms!$L$3:$M$52,Waveforms!$A352,512)","v":-155.24677253461644},{"$f":"Cwavepoint(Parms!$N$3:$O$52,Waveforms!$A352,512)","v":-6.4463917004364362},null,24101.560382414937,41.555965955455768,1000.7815059866947]
[351,246.796875,4.3074180523828804,{"$f":"Cwavepoint(Parms!$L$3:$M$52,Waveforms!$A353,512)","v":-156.07387139129924},{"$f":"Cwavepoint(Parms!$N$3:$O$52,Waveforms!$A353,512)","v":-6.493132196993094},null,24359.053331067815,42.160765727628366,1013.4082794402044]
[352,247.5,4.319689898685966,{"$f":"Cwavepoint(Parms!$L$3:$M$52,Waveforms!$A354,512)","v":-156.91473887266591},{"$f":"Cwavepoint(Parms!$N$3:$O$52,Waveforms!$A354,512)","v":-6.5273755183161262},null,24622.235275476931,42.606631157112716,1024.2414249804071]
[353,248.203125,4.3319617449890506,{"$f":"Cwavepoint(Parms!$L$3:$M$52,Waveforms!$A355,512)","v":-157.76863344979424},{"$f":"Cwavepoint(Parms!$N$3:$O$52,Waveforms!$A355,512)","v":-6.5489561861971435},null,24890.941700615535,42.888827128729837,1033.2198680188994]
[354,248.90625,4.3442335912921362,{"$f":"Cwavepoint(Parms!$L$3:$M$52,Waveforms!$A356,512)","v":-158.63412718787811},{"$f":"Cwavepoint(Parms!$N$3:$O$52,Waveforms!$A356,512)","v":-6.5579181149157861},null,25164.786308659888,43.00629000194062,1040.3096163292407]
[355,249.609375,4.3565054375952208,{"$f":"Cwavepoint(Parms!$L$3:$M$52,Waveforms!$A357,512)","v":-159.50916663153447},{"$f":"Cwavepoint(Parms!$N$3:$O$52,Waveforms!$A357,512)","v":-6.5545044474457645},null,25443.174239486631,42.961528551586305,1045.5035420947602]
[356,250.3125,4.3687772838983063,{"$f":"Cwavepoint(Parms!$L$3:$M$52,Waveforms!$A358,512)","v":-160.39114544004713},{"$f":"Cwavepoint(Parms!$N$3:$O$52,Waveforms!$A358,512)","v":-6.5391437950552884},null,25725.31953557035,42.760401572410082,1048.8207634860944]
[357,251.015625,4.381049130201391,{"$f":"Cwavepoint(Parms!$L$3:$M$52,Waveforms!$A359,512)","v":-161.27698648840527},{"$f":"Cwavepoint(Parms!$N$3:$O$52,Waveforms!$A359,512)","v":-6.5124333775088692},null,26010.266370781257,42.411788496491575,1050.3056298311374]
[358,251.71875,4.3933209765044765,{"$f":"Cwavepoint(Parms!$L$3:$M$52,Waveforms!$A360,512)","v":-162.16323097559533},{"$f":"Cwavepoint(Parms!$N$3:$O$52,Waveforms!$A360,512)","v":-6.4751196172103311},null,26296.91348044428,41.927174057182064,1050.0263180802874]
[359,252.421875,4.405592822807562,{"$f":"Cwavepoint(Parms!$L$3:$M$52,Waveforms!$A361,512)","v":-163.04613197702594},{"$f":"Cwavepoint(Parms!$N$3:$O$52,Waveforms!$A361,512)","v":-6.4280767801986372},null,26584.041152669761,41.320171092128881,1048.0730550627229]
[360,253.125,4.4178646691106467,{"$f":"Cwavepoint(Parms!$L$3:$M$52,Waveforms!$A362,512)","v":-163.92174984469963},{"$f":"Cwavepoint(Parms!$N$3:$O$52,Waveforms!$A362,512)","v":-6.3722842793150907},null,26870.340072148283,40.606006936406246,1044.5559895732003]
[361,253.828125,4.4301365154137313,{"$f":"Cwavepoint(Parms!$L$3:$M$52,Waveforms!$A363,512)","v":-164.78604689632721},{"$f":"Cwavepoint(Parms!$N$3:$O$52,Waveforms!$A363,512)","v":-6.3088032599749031},null,27154.441251718548,39.800998573069968,1039.6027498579263]
[362,254.53125,4.4424083617168169,{"$f":"Cwavepoint(Parms!$L$3:$M$52,Waveforms!$A364,512)","v":-165.63497894068254},{"$f":"Cwavepoint(Parms!$N$3:$O$52,Waveforms!$A364,512)","v":-6.2387530771427864},null,27434.94624868035,38.922039957558589,1033.3557345486638]
[363,255.234375,4.4546802080199015,{"$f":"Cwavepoint(Parms!$L$3:$M$52,Waveforms!$A365,512)","v":-166.46458135693453},{"$f":"Cwavepoint(Parms!$N$3:$O$52,Waveforms!$A365,512)","v":-6.1632882441343524},null,27710.456846339475,37.986121980284707,1025.969197341941]
[364,255.9375,4.466952054322987,{"$f":"Cwavepoint(Parms!$L$3:$M$52,Waveforms!$A366,512)","v":-167.271047674633},{"$f":"Cwavepoint(Parms!$N$3:$O$52,Waveforms!$A366,512)","v":-6.0835763909688687},null,27979.603390169344,37.009901704753808,1017.6061965260254]
[365,256.640625,4.4792239006260726,{"$f":"Cwavepoint(Parms!$L$3:$M$52,Waveforms!$A367,512)","v":-168.05079888111547},{"$f":"Cwavepoint(Parms!$N$3:$O$52,Waveforms!$A367,512)","v":-6.0007777137999998},null,28241.071004581121,36.009333170438751,1008.4354887120836]
[366,257.34375,4.4914957469291572,{"$f":"Cwavepoint(Parms!$L$3:$M$52,Waveforms!$A368,512)","v":-168.80054200567625},{"$f":"Cwavepoint(Parms!$N$3:$O$52,Waveforms!$A368,512)","v":-5.9160263294011628},null,28493.622981410073,34.999367530167795,998.62845092276768]
[367,258.046875,4.5037675932322419,{"$f":"Cwavepoint(Parms!$L$3:$M$52,Waveforms!$A369,512)","v":-169.51731688522594},{"$f":"Cwavepoint(Parms!$N$3:$O$52,Waveforms!$A369,512)","v":-5.8304138720068588},null,28736.120723966105,33.993725918890014,988.3561159130038]
[368,258.75,4.5160394395353274,{"$f":"Cwavepoint(Parms!$L$3:$M$52,Waveforms!$A370,512)","v":-170.19853039387246},{"$f":"Cwavepoint(Parms!$N$3:$O$52,Waveforms!$A370,512)","v":-5.7449755864534824},null,28967.539748233929,33.004744488946535,977.78640196305832]
[369,259.453125,4.5283112858384129,{"$f":"Cwavepoint(Parms!$L$3:$M$52,Waveforms!$A371,512)","v":-170.84197780794426},{"$f":"Cwavepoint(Parms!$N$3:$O$52,Waveforms!$A371,512)","v":-5.660679084101111},null,29186.981381330119,32.043287693179792,967.08161046389625]
[370,260.15625,4.5405831321414976,{"$f":"Cwavepoint(Parms!$L$3:$M$52,Waveforms!$A372,512)","v":-171.44585136730009},{"$f":"Cwavepoint(Parms!$N$3:$O$52,Waveforms!$A372,512)","v":-5.5784158391002343},null,29393.679951058355,31.11872327392437,956.39625281537144]
[371,260.859375,4.5528549784445831,{"$f":"Cwavepoint(Parms!$L$3:$M$52,Waveforms!$A373,512)","v":-172.00873647233766},{"$f":"Cwavepoint(Parms!$N$3:$O$52,Waveforms!$A373,512)","v":-5.498995414833991},null,29587.005422810103,30.238950572365258,945.87525317277311]
[372,261.5625,4.5651268247476686,{"$f":"Cwavepoint(Parms!$L$3:$M$52,Waveforms!$A374,512)","v":-172.52959631332558},{"$f":"Cwavepoint(Parms!$N$3:$O$52,Waveforms!$A374,512)","v":-5.4231423263745553},null,29766.46160403909,29.410472692115224,935.65255631911145]
[373,262.265625,4.5773986710507533,{"$f":"Cwavepoint(Parms!$L$3:$M$52,Waveforms!$A375,512)","v":-173.0077460546897},{"$f":"Cwavepoint(Parms!$N$3:$O$52,Waveforms!$A375,512)","v":-5.3514953669471259},null,29931.680194924,28.638502662456553,925.8501514576368]
[374,262.96875,4.5896705173538379,{"$f":"Cwavepoint(Parms!$L$3:$M$52,Waveforms!$A376,512)","v":-173.44281798277035},{"$f":"Cwavepoint(Parms!$N$3:$O$52,Waveforms!$A376,512)","v":-5.2846091568823734},null,30082.411109804405,27.92709394100503,916.57750410723099]
[375,263.671875,4.6019423636569234,{"$f":"Cwavepoint(Parms!$L$3:$M$52,Waveforms!$A377,512)","v":-173.83471926367392},{"$f":"Cwavepoint(Parms!$N$3:$O$52,Waveforms!$A377,512)","v":-5.2229576142649208},null,30218.509621480323,27.279286240407913,907.93137060181061]
[376,264.375,4.614214209960009,{"$f":"Cwavepoint(Parms!$L$3:$M$52,Waveforms!$A378,512)","v":-174.18358414189075},{"$f":"Cwavepoint(Parms!$N$3:$O$52,Waveforms!$A378,512)","v":-5.1669389990312409},null,30339.920984515134,26.697258619709963,899.99595389377487]
[377,265.078125,4.6264860562630936,{"$f":"Cwavepoint(Parms!$L$3:$M$52,Waveforms!$A379,512)","v":-174.48972253567766},{"$f":"Cwavepoint(Parms!$N$3:$O$52,Waveforms!$A379,512)","v":-5.1168821478387176},null,30446.663270577774,26.182482914870569,892.84334622414019]
[378,265.78125,4.6387579025661791,{"$f":"Cwavepoint(Parms!$L$3:$M$52,Waveforms!$A380,512)","v":-174.75356704881256},{"$f":"Cwavepoint(Parms!$N$3:$O$52,Waveforms!$A380,512)","v":-5.0730534964272067},null,30538.809196283826,25.735871777612306,886.53419433010481]
[379,266.484375,4.6510297488692638,{"$f":"Cwavepoint(Parms!$L$3:$M$52,Waveforms!$A381,512)","v":-174.97562041902773},{"$f":"Cwavepoint(Parms!$N$3:$O$52,Waveforms!$A381,512)","v":-5.0356644798042911},null,30616.467741023676,25.357916753162623,881.11851657581644]
[380,267.1875,4.6633015951723484,{"$f":"Cwavepoint(Parms!$L$3:$M$52,Waveforms!$A382,512)","v":-175.15640536179933},{"$f":"Cwavepoint(Parms!$N$3:$O$52,Waveforms!$A382,512)","v":-5.0048789083625271},null,30679.766339266964,25.04881288737208,876.63659885986647]
[381,267.890625,4.675573441475434,{"$f":"Cwavepoint(Parms!$L$3:$M$52,Waveforms!$A383,512)","v":-175.29641864658112},{"$f":"Cwavepoint(Parms!$N$3:$O$52,Waveforms!$A383,512)","v":-4.9808199395093302},null,30728.834390317432,24.808567269813729,873.11989731946642]
[382,268.59375,4.6878452877785195,{"$f":"Cwavepoint(Parms!$L$3:$M$52,Waveforms!$A384,512)","v":-175.39609106508337},{"$f":"Cwavepoint(Parms!$N$3:$O$52,Waveforms!$A384,512)","v":-4.9635762986801577},null,30763.788760911018,24.637089672819414,870.59188049179443]
[383,269.296875,4.700117134081605,{"$f":"Cwavepoint(Parms!$L$3:$M$52,Waveforms!$A385,512)","v":-175.45575472345101},{"$f":"Cwavepoint(Parms!$N$3:$O$52,Waveforms!$A385,512)","v":-4.9532074494548226},null,30784.721865575801,24.534264037334751,869.06875134591576]
[384,270,4.7123889803846897,{"$f":"Cwavepoint(Parms!$L$3:$M$52,Waveforms!$A386,512)","v":-175.47561881925364},{"$f":"Cwavepoint(Parms!$N$3:$O$52,Waveforms!$A386,512)","v":-4.9497474683058336},null,30791.692800000001,24.500000000000007,868.56000000000017]
[385,{"$f":"360*A387/512","v":270.703125},{"$f":"B387*PI()/180","v":4.7246608266877752},{"$f":"Cwavepoint(Parms!$L$3:$M$52,Waveforms!$A387,512)","v":-175.4557547583257},{"$f":"Cwavepoint(Parms!$N$3:$O$52,Waveforms!$A387,512)","v":-4.9532074433837021},null,{"$f":"D387*D387","v":30784.721877813728},{"$f":"E387*E387","v":24.53426397719171},{"$f":"D387*E387","v":869.0687504534443}]
[{"$f":"A387+1","v":386},271.40625,4.7369326729908598,{"$f":"Cwavepoint(Parms!$L$3:$M$52,Waveforms!$A388,512)","v":-175.39609113495729},{"$f":"Cwavepoint(Parms!$N$3:$O$52,Waveforms!$A388,512)","v":-4.9635762865574957},null,30763.788785422243,24.637089552475899,870.59187871235144]
[387,272.109375,4.7492045192939445,{"$f":"Cwavepoint(Parms!$L$3:$M$52,Waveforms!$A389,512)","v":-175.29641875169474},{"$f":"Cwavepoint(Parms!$N$3:$O$52,Waveforms!$A389,512)","v":-4.9808199213757067},null,30728.834427169517,24.808567089173103,873.11989466425916]
[388,272.8125,4.76147636559703,{"$f":"Cwavepoint(Parms!$L$3:$M$52,Waveforms!$A390,512)","v":-175.15640550249151},{"$f":"Cwavepoint(Parms!$N$3:$O$52,Waveforms!$A390,512)","v":-5.0048788842822969},null,30679.766388553238,25.04881264633481,876.63659534620729]
[389,273.515625,4.7737482119001156,{"$f":"Cwavepoint(Parms!$L$3:$M$52,Waveforms!$A391,512)","v":-174.97562059571089},{"$f":"Cwavepoint(Parms!$N$3:$O$52,Waveforms!$A391,512)","v":-5.0356644498695839},null,30616.467802854168,25.357916451680339,881.11851222768951]
[390,274.21875,4.7860200582032011,{"$f":"Cwavepoint(Parms!$L$3:$M$52,Waveforms!$A392,512)","v":-174.75356726194033},{"$f":"Cwavepoint(Parms!$N$3:$O$52,Waveforms!$A392,512)","v":-5.0730534607629716},null,30538.809270773505,25.735871415759163,886.53418917886108]
[391,274.921875,4.7982919045062857,{"$f":"Cwavepoint(Parms!$L$3:$M$52,Waveforms!$A393,512)","v":-174.48972278570713},{"$f":"Cwavepoint(Parms!$N$3:$O$52,Waveforms!$A393,512)","v":-5.1168821066085304},null,30446.663357832924,26.18248249293055,892.84334030926755]
[392,275.625,4.8105637508093704,{"$f":"Cwavepoint(Parms!$L$3:$M$52,Waveforms!$A394,512)","v":-174.18358442923983},{"$f":"Cwavepoint(Parms!$N$3:$O$52,Waveforms!$A394,512)","v":-5.1669389524437106},null,30339.921084618119,26.697258138280109,899.99594726370708]
[393,276.328125,4.8228355971124559,{"$f":"Cwavepoint(Parms!$L$3:$M$52,Waveforms!$A395,512)","v":-173.83471958867622},{"$f":"Cwavepoint(Parms!$N$3:$O$52,Waveforms!$A395,512)","v":-5.2229575625801692},null,30218.509734473693,27.27928570051338,907.93136331467952]
[394,277.03125,4.8351074434155406,{"$f":"Cwavepoint(Parms!$L$3:$M$52,Waveforms!$A396,512)","v":-173.44281834562847},{"$f":"Cwavepoint(Parms!$N$3:$O$52,Waveforms!$A396,512)","v":-5.2846091004184439},null,30082.411235674674,27.927093344225433,916.5774962315312]
[395,277.734375,4.8473792897186261,{"$f":"Cwavepoint(Parms!$L$3:$M$52,Waveforms!$A397,512)","v":-173.00774645542901},{"$f":"Cwavepoint(Parms!$N$3:$O$52,Waveforms!$A397,512)","v":-5.3514953060859085},null,29931.68033358601,28.638502011059511,925.85014307272934]
[396,278.4375,4.8596511360217116,{"$f":"Cwavepoint(Parms!$L$3:$M$52,Waveforms!$A398,512)","v":-172.52959675175077},{"$f":"Cwavepoint(Parms!$N$3:$O$52,Waveforms!$A398,512)","v":-5.4231422615667011},null,29766.461755321732,29.410471989190793,935.65254751548071]
[397,279.140625,4.8719229823247963,{"$f":"Cwavepoint(Parms!$L$3:$M$52,Waveforms!$A399,512)","v":-172.00873694799253},{"$f":"Cwavepoint(Parms!$N$3:$O$52,Waveforms!$A399,512)","v":-5.4989953466027837},null,29587.005586443691,30.238949821959068,945.87524405203328]
[398,279.84375,4.8841948286278818,{"$f":"Cwavepoint(Parms!$L$3:$M$52,Waveforms!$A400,512)","v":-171.44585187943372},{"$f":"Cwavepoint(Parms!$N$3:$O$52,Waveforms!$A400,512)","v":-5.5784157680437909},null,29393.680126664727,31.118722481159597,956.39624348993323]
[399,280.546875,4.8964666749309664,{"$f":"Cwavepoint(Parms!$L$3:$M$52,Waveforms!$A401,512)","v":-170.84197835548397},{"$f":"Cwavepoint(Parms!$N$3:$O$52,Waveforms!$A401,512)","v":-5.660679010892844},null,29186.981568415653,32.043286864362784,967.0816010562977]
[400,281.25,4.908738521234052,{"$f":"Cwavepoint(Parms!$L$3:$M$52,Waveforms!$A402,512)","v":-170.19853097540596},{"$f":"Cwavepoint(Parms!$N$3:$O$52,Waveforms!$A402,512)","v":-5.7449755118404067},null,28967.539946186222,33.004743631645944,977.78639260491821]
[401,281.953125,4.9210103675371366,{"$f":"Cwavepoint(Parms!$L$3:$M$52,Waveforms!$A403,512)","v":-169.51731749899216},{"$f":"Cwavepoint(Parms!$N$3:$O$52,Waveforms!$A403,512)","v":-5.8304137968057717},null,28736.120932054113,33.993725041983097,988.35610674362829]
[402,282.65625,4.9332822138402221,{"$f":"Cwavepoint(Parms!$L$3:$M$52,Waveforms!$A404,512)","v":-168.80054264956777},{"$f":"Cwavepoint(Parms!$N$3:$O$52,Waveforms!$A404,512)","v":-5.9160262544923272},null,28493.623198788548,34.999366643842514,998.62844208739477]
[403,283.359375,4.9455540601433077,{"$f":"Cwavepoint(Parms!$L$3:$M$52,Waveforms!$A405,512)","v":-168.05079955269156},{"$f":"Cwavepoint(Parms!$N$3:$O$52,Waveforms!$A405,512)","v":-6.0007776401184936},null,28241.071230298916,36.009332286146076,1008.4354803598264]
[404,284.0625,4.9578259064463923,{"$f":"Cwavepoint(Parms!$L$3:$M$52,Waveforms!$A406,512)","v":-167.27104837114402},{"$f":"Cwavepoint(Parms!$N$3:$O$52,Waveforms!$A406,512)","v":-6.0835763194935408},null,27979.603623181603,37.009900835102577,1017.6061888075503]
[405,284.765625,4.970097752749477,{"$f":"Cwavepoint(Parms!$L$3:$M$52,Waveforms!$A407,512)","v":-166.46458207535719},{"$f":"Cwavepoint(Parms!$N$3:$O$52,Waveforms!$A407,512)","v":-6.1632881758745039},null,27710.457085523329,37.986121138874474,1025.9691904069398]
[406,285.46875,4.9823695990525625,{"$f":"Cwavepoint(Parms!$L$3:$M$52,Waveforms!$A408,512)","v":-165.63497967776709},{"$f":"Cwavepoint(Parms!$N$3:$O$52,Waveforms!$A408,512)","v":-6.2387530131226754},null,27434.946492854317,38.922039158747261,1033.3557285431825]
[407,286.171875,4.994641445355648,{"$f":"Cwavepoint(Parms!$L$3:$M$52,Waveforms!$A409,512)","v":-164.78604764865275},{"$f":"Cwavepoint(Parms!$N$3:$O$52,Waveforms!$A409,512)","v":-6.3088032012165947},null,27154.441499664055,39.800997831680753,1039.6027449216508]
[408,286.875,5.0069132916587327,{"$f":"Cwavepoint(Parms!$L$3:$M$52,Waveforms!$A410,512)","v":-163.9217506087401},{"$f":"Cwavepoint(Parms!$N$3:$O$52,Waveforms!$A410,512)","v":-6.3722842268196329},null,26870.340322633983,40.606006267374283,1044.555985836736]
[409,287.578125,5.0191851379618182,{"$f":"Cwavepoint(Parms!$L$3:$M$52,Waveforms!$A411,512)","v":-163.04613274922198},{"$f":"Cwavepoint(Parms!$N$3:$O$52,Waveforms!$A411,512)","v":-6.428076734926214},null,26584.041404476917,41.320170510099658,1048.0730526449649]
[410,288.28125,5.0314569842649028,{"$f":"Cwavepoint(Parms!$L$3:$M$52,Waveforms!$A412,512)","v":-162.16323175243289},{"$f":"Cwavepoint(Parms!$N$3:$O$52,Waveforms!$A412,512)","v":-6.4751195800597703},null,26296.913732393259,41.927173576073415,1050.0263170859484]
[411,288.984375,5.0437288305679875,{"$f":"Cwavepoint(Parms!$L$3:$M$52,Waveforms!$A413,512)","v":-161.2769872664978},{"$f":"Cwavepoint(Parms!$N$3:$O$52,Waveforms!$A413,512)","v":-6.5124333492969084},null,26010.266621758092,42.411788129034548,1050.3056303484732]
[412,289.6875,5.056000676871073,{"$f":"Cwavepoint(Parms!$L$3:$M$52,Waveforms!$A414,512)","v":-160.3911462162188},{"$f":"Cwavepoint(Parms!$N$3:$O$52,Waveforms!$A414,512)","v":-6.5391437764963154},null,25725.319784552477,42.760401329690495,1048.8207655848978]
[413,290.390625,5.0682725231741586,{"$f":"Cwavepoint(Parms!$L$3:$M$52,Waveforms!$A415,512)","v":-159.50916740290413},{"$f":"Cwavepoint(Parms!$N$3:$O$52,Waveforms!$A415,512)","v":-6.5545044391323373},null,25443.174485567692,42.961528442605513,1045.5035458246382]
[414,291.09375,5.0805443694772441,{"$f":"Cwavepoint(Parms!$L$3:$M$52,Waveforms!$A416,512)","v":-158.63412795193923},{"$f":"Cwavepoint(Parms!$N$3:$O$52,Waveforms!$A416,512)","v":-6.5579181173006855},null,25164.786551072229,43.006290033220566,1040.3096217182174]
[415,291.796875,5.0928162157803287,{"$f":"Cwavepoint(Parms!$L$3:$M$52,Waveforms!$A417,512)","v":-157.76863420449081},{"$f":"Cwavepoint(Parms!$N$3:$O$52,Waveforms!$A417,512)","v":-6.5489561995773986},null,24890.941938750428,42.888827303983241,1033.2198750723589]
[416,292.5,5.1050880620834143,{"$f":"Cwavepoint(Parms!$L$3:$M$52,Waveforms!$A418,512)","v":-156.91473961646057},{"$f":"Cwavepoint(Parms!$N$3:$O$52,Waveforms!$A418,512)","v":-6.5273755428194384},null,24622.23550890162,42.606631476997357,1024.2414336803652]
[417,293.203125,5.1173599083864989,{"$f":"Cwavepoint(Parms!$L$3:$M$52,Waveforms!$A419,512)","v":-156.07387212323218},{"$f":"Cwavepoint(Parms!$N$3:$O$52,Waveforms!$A419,512)","v":-6.4931322325673344},null,24359.053559539032,42.160766189604857,1013.4082897449512]
[418,293.90625,5.1296317546895835,{"$f":"Cwavepoint(Parms!$L$3:$M$52,Waveforms!$A420,512)","v":-155.2467732543528},{"$f":"Cwavepoint(Parms!$N$3:$O$52,Waveforms!$A420,512)","v":-6.446391746842413},null,24101.560605888433,41.555966553757976,1000.7815178307753]
[419,294.609375,5.1419036009926691,{"$f":"Cwavepoint(Parms!$L$3:$M$52,Waveforms!$A421,512)","v":-154.43345104146411},{"$f":"Cwavepoint(Parms!$N$3:$O$52,Waveforms!$A421,512)","v":-6.3875350977511749},null,23849.690800576293,40.80060462500311,986.44908879418972]
[420,295.3125,5.1541754472957546,{"$f":"Cwavepoint(Parms!$L$3:$M$52,Waveforms!$A422,512)","v":-153.63314846078626},{"$f":"Cwavepoint(Parms!$N$3:$O$52,Waveforms!$A422,512)","v":-6.3171606108946392},null,23603.14430597399,39.906518183838735,970.52527398420727]
[421,296.015625,5.1664472935988393,{"$f":"Cwavepoint(Parms!$L$3:$M$52,Waveforms!$A423,512)","v":-152.84432879524189},{"$f":"Cwavepoint(Parms!$N$3:$O$52,Waveforms!$A423,512)","v":-6.2360811001969214},null,23361.388844868012,38.888707488233244,953.1496300722921]
[422,296.71875,5.1787191399019248,{"$f":"Cwavepoint(Parms!$L$3:$M$52,Waveforms!$A424,512)","v":-152.06467889940194},{"$f":"Cwavepoint(Parms!$N$3:$O$52,Waveforms!$A424,512)","v":-6.1453163031121187},null,23123.666568778219,37.764912465295595,934.48555036800417]
[423,297.421875,5.1909909862050094,{"$f":"Cwavepoint(Parms!$L$3:$M$52,Waveforms!$A425,512)","v":-151.29113091274797},{"$f":"Cwavepoint(Parms!$N$3:$O$52,Waveforms!$A425,512)","v":-6.0460805556245791},null,22889.006292858245,36.555090085101618,914.71836485001825]
[424,298.125,5.203262832508095,{"$f":"Cwavepoint(Parms!$L$3:$M$52,Waveforms!$A426,512)","v":-150.51990250424777},{"$f":"Cwavepoint(Parms!$N$3:$O$52,Waveforms!$A426,512)","v":-5.939765805161648},null,22656.241049888253,35.280817820167599,894.052969890996]
[425,298.828125,5.2155346788111796,{"$f":"Cwavepoint(Parms!$L$3:$M$52,Waveforms!$A427,512)","v":-149.7465552557685},{"$f":"Cwavepoint(Parms!$N$3:$O$52,Waveforms!$A427,512)","v":-5.8279201794516471},null,22424.030810968929,33.964653618059721,872.71097117846432]
[426,299.53125,5.2278065251142651,{"$f":"Cwavepoint(Parms!$L$3:$M$52,Waveforms!$A428,512)","v":-148.96607031573433},{"$f":"Cwavepoint(Parms!$N$3:$O$52,Waveforms!$A428,512)","v":-5.712222447344784},null,22190.890105312305,32.629485287949635,850.92733075027911]
[427,300.234375,5.2400783714173507,{"$f":"Cwavepoint(Parms!$L$3:$M$52,Waveforms!$A429,512)","v":-148.17293999023545},{"$f":"Cwavepoint(Parms!$N$3:$O$52,Waveforms!$A429,512)","v":-5.5944528205224842},null,21955.220145349915,31.297902361051978,828.94652205348154]
[428,300.9375,5.2523502177204353,{"$f":"Cwavepoint(Parms!$L$3:$M$52,Waveforms!$A430,512)","v":-147.36127349892314},{"$f":"Cwavepoint(Parms!$N$3:$O$52,Waveforms!$A430,512)","v":-5.4764606497645687},null,21715.344927224429,29.991621248419762,807.01821561604697]
[429,301.640625,5.2646220640235208,{"$f":"Cwavepoint(Parms!$L$3:$M$52,Waveforms!$A431,512)","v":-146.52491471947116},{"$f":"Cwavepoint(Parms!$N$3:$O$52,Waveforms!$A431,512)","v":-5.3601296630936295},null,21469.550633548293,28.730990005176224,785.39254177010173]
[430,302.34375,5.2768939103266055,{"$f":"Cwavepoint(Parms!$L$3:$M$52,Waveforms!$A432,512)","v":-145.65756938832737},{"$f":"Cwavepoint(Parms!$N$3:$O$52,Waveforms!$A432,512)","v":-5.247341472968662},null,21216.127520115402,27.534592533936927,764.31500470318088]
[431,303.046875,5.289165756629691,{"$f":"Cwavepoint(Parms!$L$3:$M$52,Waveforms!$A433,512)","v":-144.75293892706597},{"$f":"Cwavepoint(Parms!$N$3:$O$52,Waveforms!$A433,512)","v":-5.1399381433590836},null,20953.413328022889,26.418964117557625,744.02115215455433]
[432,303.75,5.3014376029327757,{"$f":"Cwavepoint(Parms!$L$3:$M$52,Waveforms!$A434,512)","v":-143.80485783163647},{"$f":"Cwavepoint(Parms!$N$3:$O$52,Waveforms!$A434,512)","v":-5.0396846529743966},null,20679.837135977177,25.398421401425665,724.73113503726324]
[433,304.453125,5.3137094492358612,{"$f":"Cwavepoint(Parms!$L$3:$M$52,Waveforms!$A435,512)","v":-142.80743140337145},{"$f":"Cwavepoint(Parms!$N$3:$O$52,Waveforms!$A435,512)","v":-4.9482321165625143},null,20393.962464028642,24.485001079380741,706.64431855396083]
[434,305.15625,5.3259812955389467,{"$f":"Cwavepoint(Parms!$L$3:$M$52,Waveforms!$A436,512)","v":-141.75517052112406},{"$f":"Cwavepoint(Parms!$N$3:$O$52,Waveforms!$A436,512)","v":-4.8670826309144966},null,20094.528369472959,23.688493336149577,689.93412828568557]
[435,305.859375,5.3382531418420314,{"$f":"Cwavepoint(Parms!$L$3:$M$52,Waveforms!$A437,512)","v":-140.64312015675654},{"$f":"Cwavepoint(Parms!$N$3:$O$52,Waveforms!$A437,512)","v":-4.7975565954344921},null,19780.487247427856,23.016549286396994,674.74332871053309]
[436,306.5625,5.350524988145116,{"$f":"Cwavepoint(Parms!$L$3:$M$52,Waveforms!$A438,512)","v":-139.4669784227182},{"$f":"Cwavepoint(Parms!$N$3:$O$52,Waveforms!$A438,512)","v":-4.7407633188037357},null,19451.038070362945,22.474836844915011,661.1799354908145]
[437,307.265625,5.3627968344482015,{"$f":"Cwavepoint(Parms!$L$3:$M$52,Waveforms!$A439,512)","v":-138.2232031098026},{"$f":"Cwavepoint(Parms!$N$3:$O$52,Waveforms!$A439,512)","v":-4.697575663891028},null,19105.653877933742,22.067217117981233,649.31395511367532]
[438,307.96875,5.3750686807512862,{"$f":"Cwavepoint(Parms!$L$3:$M$52,Waveforms!$A440,512)","v":-136.90910292241145},{"$f":"Cwavepoint(Parms!$N$3:$O$52,Waveforms!$A440,512)","v":-4.6686094036931154},null,18744.102463019452,21.795913764251786,639.17512535475873]
[439,308.671875,5.3873405270543717,{"$f":"Cwavepoint(Parms!$L$3:$M$52,Waveforms!$A441,512)","v":-135.52291094269998},{"$f":"Cwavepoint(Parms!$N$3:$O$52,Waveforms!$A441,512)","v":-4.6542078633077164},null,18366.459390382988,21.661650834875378,630.75179776786558]
[440,309.375,5.3996123733574573,{"$f":"Cwavepoint(Parms!$L$3:$M$52,Waveforms!$A442,512)","v":-134.06383824680714},{"$f":"Cwavepoint(Parms!$N$3:$O$52,Waveforms!$A442,512)","v":-4.6544323088334183},null,17973.112725466068,21.663740117512386,623.9910601821565]
[441,310.078125,5.4118842196605419,{"$f":"Cwavepoint(Parms!$L$3:$M$52,Waveforms!$A443,512)","v":-132.53210604708278},{"$f":"Cwavepoint(Parms!$N$3:$O$52,Waveforms!$A443,512)","v":-4.6690584161844191},null,17564.759133275194,21.800106493742557,618.80014515377775]
[442,310.78125,5.4241560659636274,{"$f":"Cwavepoint(Parms!$L$3:$M$52,Waveforms!$A444,512)","v":-130.92895523333382},{"$f":"Cwavepoint(Parms!$N$3:$O$52,Waveforms!$A444,512)","v":-4.6975790140343792},null,17142.391318492333,22.06724859309621,615.04911243355571]
[443,311.484375,5.4364279122667121,{"$f":"Cwavepoint(Parms!$L$3:$M$52,Waveforms!$A445,512)","v":-129.25663272171093},{"$f":"Cwavepoint(Parms!$N$3:$O$52,Waveforms!$A445,512)","v":-4.7392131487156526},null,16707.277102555272,22.46014126895933,612.5747333534423]
[444,312.1875,5.4486997585697976,{"$f":"Cwavepoint(Parms!$L$3:$M$52,Waveforms!$A446,512)","v":-127.51835457900657},{"$f":"Cwavepoint(Parms!$N$3:$O$52,Waveforms!$A446,512)","v":-4.7929213684005081},null,16260.930754537245,22.9720952436702,611.18544652499338]
[445,312.890625,5.4609716048728822,{"$f":"Cwavepoint(Parms!$L$3:$M$52,Waveforms!$A447,512)","v":-125.7182464590656},{"$f":"Cwavepoint(Parms!$N$3:$O$52,Waveforms!$A447,512)","v":-4.8574269729465804},null,15805.077492742359,23.594596797508981,610.66720134181116]
[446,313.59375,5.4732434511759678,{"$f":"Cwavepoint(Parms!$L$3:$M$52,Waveforms!$A448,512)","v":-123.86126245257238},{"$f":"Cwavepoint(Parms!$N$3:$O$52,Waveforms!$A448,512)","v":-4.9312428281373553},null,15341.612336345015,24.317155830056102,610.78996215328618]
[447,314.296875,5.4855152974790533,{"$f":"Cwavepoint(Parms!$L$3:$M$52,Waveforms!$A449,512)","v":-121.95308399741344},{"$f":"Cwavepoint(Parms!$N$3:$O$52,Waveforms!$A449,512)","v":-5.0127032024100053},null,14872.55469648018,25.127193395451524,611.31461469761075]
[448,315,5.497787143782138,{"$f":"Cwavepoint(Parms!$L$3:$M$52,Waveforms!$A450,512)","v":-120.00000101016774},{"$f":"Cwavepoint(Parms!$N$3:$O$52,Waveforms!$A450,512)","v":-5.0999999541403911},null,14400.000242440257,26.009999532231991,611.99999964870233]
[449,{"$f":"360*A451/512","v":315.703125},{"$f":"B451*PI()/180","v":5.5100589900852226},{"$f":"Cwavepoint(Parms!$L$3:$M$52,Waveforms!$A451,512)","v":-118.00877786674285},{"$f":"Cwavepoint(Parms!$N$3:$O$52,Waveforms!$A451,512)","v":-5.1912222815455253},null,{"$f":"D451*D451","v":13926.071653602256},{"$f":"E451*E451","v":26.94878877641473},{"$f":"D451*E451","v":612.60979707979186}]
[{"$f":"A451+1","v":450},316.40625,5.5223308363883081,{"$f":"Cwavepoint(Parms!$L$3:$M$52,Waveforms!$A452,512)","v":-115.98650726940195},{"$f":"Cwavepoint(Parms!$N$3:$O$52,Waveforms!$A452,512)","v":-5.2843991483700998},null,13452.869868555032,27.924874359294638,612.91900023685014]
[451,317.109375,5.5346026826913937,{"$f":"Cwavepoint(Parms!$L$3:$M$52,Waveforms!$A453,512)","v":-113.94045537743071},{"$f":"Cwavepoint(Parms!$N$3:$O$52,Waveforms!$A453,512)","v":-5.377543419469121},null,12982.427371616279,28.917973228275645,612.71974602621754]
[452,317.8125,5.5468745289944783,{"$f":"Cwavepoint(Parms!$L$3:$M$52,Waveforms!$A454,512)","v":-111.87790184002198},{"$f":"Cwavepoint(Parms!$N$3:$O$52,Waveforms!$A454,512)","v":-5.4686966834578756},null,12516.664920125593,29.906643415663169,611.82631074475398]
[453,318.515625,5.5591463752975638,{"$f":"Cwavepoint(Parms!$L$3:$M$52,Waveforms!$A455,512)","v":-109.80597854508829},{"$f":"Cwavepoint(Parms!$N$3:$O$52,Waveforms!$A455,512)","v":-5.5559737065338073},null,12057.352924244391,30.868843827695013,610.07912961672594]
[454,319.21875,5.5714182216006485,{"$f":"Cwavepoint(Parms!$L$3:$M$52,Waveforms!$A456,512)","v":-107.73151098112044},{"$f":"Cwavepoint(Parms!$N$3:$O$52,Waveforms!$A456,512)","v":-5.6376054535774909},null,11606.078458275273,31.782595250206665,607.34775382930786]
[455,319.921875,5.5836900679037331,{"$f":"Cwavepoint(Parms!$L$3:$M$52,Waveforms!$A457,512)","v":-105.66086609766714},{"$f":"Cwavepoint(Parms!$N$3:$O$52,Waveforms!$A457,512)","v":-5.7119796303056711},null,11164.218624509145,32.626711297026908,603.53271487032976]
[456,320.625,5.5959619142068187,{"$f":"Cwavepoint(Parms!$L$3:$M$52,Waveforms!$A458,512)","v":-103.59981044254386},{"$f":"Cwavepoint(Parms!$N$3:$O$52,Waveforms!$A458,512)","v":-5.7776777435480984},null,10732.920723731018,33.381560108291048,598.56631902968752]
[457,321.328125,5.6082337605099042,{"$f":"Cwavepoint(Parms!$L$3:$M$52,Waveforms!$A459,512)","v":-101.55338215197939},{"$f":"Cwavepoint(Parms!$N$3:$O$52,Waveforms!$A459,512)","v":-5.8335077449877195},null,10313.089426505967,34.029812610831705,592.41244131326937]
[458,322.03125,5.6205056068129897,{"$f":"Cwavepoint(Parms!$L$3:$M$52,Waveforms!$A460,512)","v":-99.525780077345942},{"$f":"Cwavepoint(Parms!$N$3:$O$52,Waveforms!$A460,512)","v":-5.878531415655285},null,9905.3809000042311,34.557131604846127,585.06542485227703]
[459,322.734375,5.6327774531160744,{"$f":"Cwavepoint(Parms!$L$3:$M$52,Waveforms!$A461,512)","v":-97.520272955050771},{"$f":"Cwavepoint(Parms!$N$3:$O$52,Waveforms!$A461,512)","v":-5.9120857622178775},null,9510.203637227607,34.952758059819345,576.54821726515684]
[460,323.4375,5.6450492994191599,{"$f":"Cwavepoint(Parms!$L$3:$M$52,Waveforms!$A462,512)","v":-95.539131072827914},{"$f":"Cwavepoint(Parms!$N$3:$O$52,Waveforms!$A462,512)","v":-5.9337978292000511},null,9127.7255661509917,35.209956677819235,566.90988856360536]
[461,324.140625,5.6573211457222445,{"$f":"Cwavepoint(Parms!$L$3:$M$52,Waveforms!$A463,512)","v":-93.583582366362009},{"$f":"Cwavepoint(Parms!$N$3:$O$52,Waveforms!$A463,512)","v":-5.9435924807722555},null,8757.8868885216616,35.326291577492498,556.22267647644026]
[462,324.84375,5.6695929920253292,{"$f":"Cwavepoint(Parms!$L$3:$M$52,Waveforms!$A464,512)","v":-91.653794306869173},{"$f":"Cwavepoint(Parms!$N$3:$O$52,Waveforms!$A464,512)","v":-5.9416928682403132},null,8400.4180108458841,35.303714140497803,544.57869598028924]
[463,325.546875,5.6818648383284147,{"$f":"Cwavepoint(Parms!$L$3:$M$52,Waveforms!$A465,512)","v":-89.748882326459068},{"$f":"Cwavepoint(Parms!$N$3:$O$52,Waveforms!$A465,512)","v":-5.9286134711157574},null,8054.8618788485965,35.148457689895231,532.08643277822819]
[464,326.25,5.6941366846315002,{"$f":"Cwavepoint(Parms!$L$3:$M$52,Waveforms!$A466,512)","v":-87.866944888393675},{"$f":"Cwavepoint(Parms!$N$3:$O$52,Waveforms!$A466,512)","v":-5.905145776609678},null,7720.6000040200115,34.870746643011117,518.86711851129326]
[465,326.953125,5.7064085309345858,{"$f":"Cwavepoint(Parms!$L$3:$M$52,Waveforms!$A467,512)","v":-86.005124659166825},{"$f":"Cwavepoint(Parms!$N$3:$O$52,Waveforms!$A467,512)","v":-5.8723368403643983},null,7396.8814676388256,34.484339966700922,505.0510619961579]
[466,327.65625,5.7186803772376704,{"$f":"Cwavepoint(Parms!$L$3:$M$52,Waveforms!$A468,512)","v":-84.159694594475155},{"$f":"Cwavepoint(Parms!$N$3:$O$52,Waveforms!$A468,512)","v":-5.831461145931808},null,7082.8541942353304,34.005939096512314,490.77398908116908]
[467,328.359375,5.7309522235407551,{"$f":"Cwavepoint(Parms!$L$3:$M$52,Waveforms!$A469,512)","v":-82.326167127477007},{"$f":"Cwavepoint(Parms!$N$3:$O$52,Waveforms!$A469,512)","v":-5.7839863476664668},null,6777.5977939012755,33.454498069992077,476.17342672103484]
[468,329.0625,5.7432240698438397,{"$f":"Cwavepoint(Parms!$L$3:$M$52,Waveforms!$A470,512)","v":-80.499424060757448},{"$f":"Cwavepoint(Parms!$N$3:$O$52,Waveforms!$A470,512)","v":-5.7315336371981962},null,6480.1572741136551,32.850477834334384,461.38515677931315]
[469,329.765625,5.7554959161469252,{"$f":"Cwavepoint(Parms!$L$3:$M$52,Waveforms!$A471,512)","v":-78.673864227848114},{"$f":"Cwavepoint(Parms!$N$3:$O$52,Waveforms!$A471,512)","v":-5.67583361358865},null,6189.5769125418792,32.215087209142794,446.53976309532999]
[470,330.46875,5.7677677624500108,{"$f":"Cwavepoint(Parms!$L$3:$M$52,Waveforms!$A472,512)","v":-76.843565519649545},{"$f":"Cwavepoint(Parms!$N$3:$O$52,Waveforms!$A472,512)","v":-5.6186786580972798},null,5904.933561772672,31.569549862957849,431.75930159735492]
[471,331.171875,5.7800396087530963,{"$f":"Cwavepoint(Parms!$L$3:$M$52,Waveforms!$A473,512)","v":-75.002457477802864},{"$f":"Cwavepoint(Parms!$N$3:$O$52,Waveforms!$A473,512)","v":-5.5618729130410403},null,5625.3686277096267,30.934430300819628,417.15413665730415]
[472,331.875,5.7923114550561809,{"$f":"Cwavepoint(Parms!$L$3:$M$52,Waveforms!$A474,512)","v":-73.144500351373182},{"$f":"Cwavepoint(Parms!$N$3:$O$52,Waveforms!$A474,512)","v":-5.5071810378910273},null,5350.117931652032,30.329042984106493,402.82000536109598]
[473,332.578125,5.8045833013592665,{"$f":"Cwavepoint(Parms!$L$3:$M$52,Waveforms!$A475,512)","v":-71.263866303458585},{"$f":"Cwavepoint(Parms!$N$3:$O$52,Waveforms!$A475,512)","v":-5.4562769624370651},null,5078.5386405172203,29.770958290821447,388.83539196575612]
[474,333.28125,5.8168551476623511,{"$f":"Cwavepoint(Parms!$L$3:$M$52,Waveforms!$A476,512)","v":-69.355118346626796},{"$f":"Cwavepoint(Parms!$N$3:$O$52,Waveforms!$A476,512)","v":-5.4106938751282341},null,4810.1324408746086,29.275608210350185,375.25931404688743]
[475,333.984375,5.8291269939654358,{"$f":"Cwavepoint(Parms!$L$3:$M$52,Waveforms!$A477,512)","v":-67.413382584022571},{"$f":"Cwavepoint(Parms!$N$3:$O$52,Waveforms!$A477,512)","v":-5.3717766737874726},null,4544.5641514197978,28.855984633047203,362.1296360659631]
[476,334.6875,5.8413988402685213,{"$f":"Cwavepoint(Parms!$L$3:$M$52,Waveforms!$A478,512)","v":-65.434509437716486},{"$f":"Cwavepoint(Parms!$N$3:$O$52,Waveforms!$A478,512)","v":-5.3406380657225689},null,4281.6750253546079,28.522414949044901,349.46203191495135]
[477,335.390625,5.8536706865716068,{"$f":"Cwavepoint(Parms!$L$3:$M$52,Waveforms!$A479,512)","v":-63.415219755856072},{"$f":"Cwavepoint(Parms!$N$3:$O$52,Waveforms!$A479,512)","v":-5.3181194354325241},null,4021.490096683518,28.28239432952515,337.24971268584272]
[478,336.09375,5.8659425328746924,{"$f":"Cwavepoint(Parms!$L$3:$M$52,Waveforms!$A480,512)","v":-61.353232001410667},{"$f":"Cwavepoint(Parms!$N$3:$O$52,Waveforms!$A480,512)","v":-5.3047575019526914},null,3764.2190770189218,28.140452154523359,325.46401772852715]
[479,336.796875,5.878214379177777,{"$f":"Cwavepoint(Parms!$L$3:$M$52,Waveforms!$A481,512)","v":-59.247367131183665},{"$f":"Cwavepoint(Parms!$N$3:$O$52,Waveforms!$A481,512)","v":-5.3007576663732729},null,3510.2505119772627,28.098031837615025,314.05593553305368]
[480,337.5,5.8904862254808625,{"$f":"Cwavepoint(Parms!$L$3:$M$52,Waveforms!$A482,512)","v":-57.097628265435098},{"$f":"Cwavepoint(Parms!$N$3:$O$52,Waveforms!$A482,512)","v":-5.3059748058099734},null,3260.1391535378129,28.153368639890186,302.95857704790205]
[481,338.203125,5.9027580717839463,{"$f":"Cwavepoint(Parms!$L$3:$M$52,Waveforms!$A483,512)","v":-54.905252814827982},{"$f":"Cwavepoint(Parms!$N$3:$O$52,Waveforms!$A483,512)","v":-5.3199021062782128},null,3014.5867866601761,28.301358420383366,292.09057009534115]
[482,338.90625,5.9150299180870318,{"$f":"Cwavepoint(Parms!$L$3:$M$52,Waveforms!$A484,512)","v":-52.672735359560107},{"$f":"Cwavepoint(Parms!$N$3:$O$52,Waveforms!$A484,512)","v":-5.3416683471910984},null,2774.4170502582538,28.533420731383281,281.36028323013556]
[483,339.609375,5.9273017643901174,{"$f":"Cwavepoint(Parms!$L$3:$M$52,Waveforms!$A485,512)","v":-50.403820250924952},{"$f":"Cwavepoint(Parms!$N$3:$O$52,Waveforms!$A485,512)","v":-5.3700438586516004},null,2540.5450958875522,28.83737104384177,270.67072539105868]
[484,340.3125,5.9395736106932029,{"$f":"Cwavepoint(Parms!$L$3:$M$52,Waveforms!$A486,512)","v":-48.103463612352328},{"$f":"Cwavepoint(Parms!$N$3:$O$52,Waveforms!$A486,512)","v":-5.4034551737396166},null,2313.9432115049044,29.197327814613431,259.92490933096059]
[485,341.015625,5.9518454569962875,{"$f":"Cwavepoint(Parms!$L$3:$M$52,Waveforms!$A487,512)","v":-45.777765138579312},{"$f":"Cwavepoint(Parms!$N$3:$O$52,Waveforms!$A487,512)","v":-5.4400081962197246},null,2095.6037810829275,29.593689174937783,249.03141755849305]
[486,341.71875,5.9641173032993731,{"$f":"Cwavepoint(Parms!$L$3:$M$52,Waveforms!$A488,512)","v":-43.4338708108139},{"$f":"Cwavepoint(Parms!$N$3:$O$52,Waveforms!$A488,512)","v":-5.4775195042361418},null,1886.5011336104717,30.00321991928735,237.90987451070598]
[487,342.421875,5.9763891496024586,{"$f":"Cwavepoint(Parms!$L$3:$M$52,Waveforms!$A489,512)","v":-41.079848345413275},{"$f":"Cwavepoint(Parms!$N$3:$O$52,Waveforms!$A489,512)","v":-5.5135552173309659},null,1687.5539400821538,30.399291134557515,226.4960121720182]
[488,343.125,5.9886609959055424,{"$f":"Cwavepoint(Parms!$L$3:$M$52,Waveforms!$A490,512)","v":-38.724537856816085},{"$f":"Cwavepoint(Parms!$N$3:$O$52,Waveforms!$A490,512)","v":-5.5454766721139563},null,1499.5898322239821,30.752311520960081,214.74602132336739]
[489,343.828125,6.0009328422086279,{"$f":"Cwavepoint(Parms!$L$3:$M$52,Waveforms!$A491,512)","v":-36.377380826194532},{"$f":"Cwavepoint(Parms!$N$3:$O$52,Waveforms!$A491,512)","v":-5.5704919854921462},null,1323.3138357739856,31.030380960432232,202.63990834551231]
[490,344.53125,6.0132046885117134,{"$f":"Cwavepoint(Parms!$L$3:$M$52,Waveforms!$A492,512)","v":-34.04823101055689},{"$f":"Cwavepoint(Parms!$N$3:$O$52,Waveforms!$A492,512)","v":-5.5857124375631706},null,1159.2820349482479,31.200183435147895,190.18362743269165]
[491,345.234375,6.0254765348147989,{"$f":"Cwavepoint(Parms!$L$3:$M$52,Waveforms!$A493,512)","v":-31.747151389469046},{"$f":"Cwavepoint(Parms!$N$3:$O$52,Waveforms!$A493,512)","v":-5.5882124826831081},null,1007.8816213458664,31.228118751615305,177.4098276842613]
[492,345.9375,6.0377483811178836,{"$f":"Cwavepoint(Parms!$L$3:$M$52,Waveforms!$A494,512)","v":-29.484201616581135},{"$f":"Cwavepoint(Parms!$N$3:$O$52,Waveforms!$A494,512)","v":-5.5750920999100284},null,869.31814496720563,31.08165192247921,164.37713950475597]
[493,346.640625,6.0500202274209691,{"$f":"Cwavepoint(Parms!$L$3:$M$52,Waveforms!$A495,512)","v":-27.269220711380335},{"$f":"Cwavepoint(Parms!$N$3:$O$52,Waveforms!$A495,512)","v":-5.5435401254724841},null,743.61039820597421,30.730837122723486,151.16801920390219]
[494,347.34375,6.0622920737240547,{"$f":"Cwavepoint(Parms!$L$3:$M$52,Waveforms!$A496,512)","v":-25.111609885969244},{"$f":"Cwavepoint(Parms!$N$3:$O$52,Waveforms!$A496,512)","v":-5.4908971719327493},null,630.59295106510831,30.149951752739064,137.88526770554699]
[495,348.046875,6.0745639200271384,{"$f":"Cwavepoint(Parms!$L$3:$M$52,Waveforms!$A497,512)","v":-23.020120447779583},{"$f":"Cwavepoint(Parms!$N$3:$O$52,Waveforms!$A497,512)","v":-5.4147167324117147},null,529.92594543027963,29.319157292259398,124.64743137072516]
[496,348.75,6.0868357663302239,{"$f":"Cwavepoint(Parms!$L$3:$M$52,Waveforms!$A498,512)","v":-21.002651650137789},{"$f":"Cwavepoint(Parms!$N$3:$O$52,Waveforms!$A498,512)","v":-5.3128230939864469},null,441.11137633703561,28.226089227995722,111.58337272180461]
[497,349.453125,6.0991076126333095,{"$f":"Cwavepoint(Parms!$L$3:$M$52,Waveforms!$A499,512)","v":-19.066063179503061},{"$f":"Cwavepoint(Parms!$N$3:$O$52,Waveforms!$A499,512)","v":-5.1833647417800712},null,363.51476516480238,26.867270046328784,98.82635964918741]
[498,350.15625,6.1113794589363941,{"$f":"Cwavepoint(Parms!$L$3:$M$52,Waveforms!$A500,512)","v":-17.216006674639114},{"$f":"Cwavepoint(Parms!$N$3:$O$52,Waveforms!$A500,512)","v":-5.024862023210483},null,296.39088582121855,25.24923835230295,86.50805813073228]
[499,350.859375,6.1236513052394796,{"$f":"Cwavepoint(Parms!$L$3:$M$52,Waveforms!$A501,512)","v":-15.456780275302467},{"$f":"Cwavepoint(Parms!$N$3:$O$52,Waveforms!$A501,512)","v":-4.8362479585022227},null,238.91205647897942,23.389294316116917,74.752822051448987]
[500,351.5625,6.1359231515425652,{"$f":"Cwavepoint(Parms!$L$3:$M$52,Waveforms!$A502,512)","v":-13.791209705058296},{"$f":"Cwavepoint(Parms!$N$3:$O$52,Waveforms!$A502,512)","v":-4.6169012263661422},null,190.19746512889415,21.315776934021187,63.672653000356291]
[501,352.265625,6.1481949978456489,{"$f":"Cwavepoint(Parms!$L$3:$M$52,Waveforms!$A503,512)","v":-12.220558815683738},{"$f":"Cwavepoint(Parms!$N$3:$O$52,Waveforms!$A503,512)","v":-4.36667051956029},null,149.34205776758552,19.067811426396933,53.36315391299879]
[502,352.96875,6.1604668441487345,{"$f":"Cwavepoint(Parms!$L$3:$M$52,Waveforms!$A504,512)","v":-10.74447187248518},{"$f":"Cwavepoint(Parms!$N$3:$O$52,Waveforms!$A504,512)","v":-4.085889650161044},null,115.4436758186252,16.694494233293138,43.900726420233653]
[503,353.671875,6.17273869045182,{"$f":"Cwavepoint(Parms!$L$3:$M$52,Waveforms!$A505,512)","v":-9.3609491556155149},{"$f":"Cwavepoint(Parms!$N$3:$O$52,Waveforms!$A505,512)","v":-3.7753829846211802},null,87.627369094018817,14.253516680567131,35.341168162014817]
[504,354.375,6.1850105367549055,{"$f":"Cwavepoint(Parms!$L$3:$M$52,Waveforms!$A506,512)","v":-8.0663567084461274},{"$f":"Cwavepoint(Parms!$N$3:$O$52,Waveforms!$A506,512)","v":-3.4364609995350812},null,65.066110547893842,11.80926420132565,27.719720236913286]
[505,355.078125,6.1972823830579902,{"$f":"Cwavepoint(Parms!$L$3:$M$52,Waveforms!$A507,512)","v":-6.8554702974764847},{"$f":"Cwavepoint(Parms!$N$3:$O$52,Waveforms!$A507,512)","v":-3.0709059656624493},null,46.997472999582321,9.4304634499412199,21.052504633942263]
[506,355.78125,6.2095542293610757,{"$f":"Cwavepoint(Parms!$L$3:$M$52,Waveforms!$A508,512)","v":-5.721552877045867},{"$f":"Cwavepoint(Parms!$N$3:$O$52,Waveforms!$A508,512)","v":-2.6809479852298614},null,32.73616732483184,7.1874820995080535,15.339185658102235]
[507,356.484375,6.2218260756641612,{"$f":"Cwavepoint(Parms!$L$3:$M$52,Waveforms!$A509,512)","v":-4.6564640942419846},{"$f":"Cwavepoint(Parms!$N$3:$O$52,Waveforms!$A509,512)","v":-2.2692318208397642},null,21.682657860964827,5.1494130567117518,10.566596495251721]
[508,357.1875,6.234097921967245,{"$f":"Cwavepoint(Parms!$L$3:$M$52,Waveforms!$A510,512)","v":-3.6507996426545488},{"$f":"Cwavepoint(Parms!$N$3:$O$52,Waveforms!$A510,512)","v":-1.8387751585679744},null,13.328338030806581,3.3810940837666794,6.7129996918220218]
[509,357.890625,6.2463697682703305,{"$f":"Cwavepoint(Parms!$L$3:$M$52,Waveforms!$A511,512)","v":-2.6940575950268775},{"$f":"Cwavepoint(Parms!$N$3:$O$52,Waveforms!$A511,512)","v":-1.3929191383085677},null,7.2579463253220027,1.9402237258662829,3.7526043838184906]
[510,358.59375,6.2586416145734161,{"$f":"Cwavepoint(Parms!$L$3:$M$52,Waveforms!$A512,512)","v":-1.7748282303831258},{"$f":"Cwavepoint(Parms!$N$3:$O$52,Waveforms!$A512,512)","v":-0.93527215673803332},null,3.1500152473648977,0.87473400716941241,1.6599474268699732]
[511,359.296875,6.2709134608765007,{"$f":"Cwavepoint(Parms!$L$3:$M$52,Waveforms!$A513,512)","v":-0.88100333528821062},{"$f":"Cwavepoint(Parms!$N$3:$O$52,Waveforms!$A513,512)","v":-0.46964809842694361},null,0.77616687678895124,0.22056933635604412,0.41376154112590313]
[512,360,6.2831853071795862,{"$f":"Cwavepoint(Parms!$L$3:$M$52,Waveforms!$A514,512)","v":-5.141716349768489E-7},{"$f":"Cwavepoint(Parms!$N$3:$O$52,Waveforms!$A514,512)","v":-2.7515897679773296E-7},null,2.6437247021476594E-13,7.5712462512375342E-14,1.4147894097864719E-13]
[]
[null,null,null,null,null,"RMS Values",{"$f":"SQRT(SUM(G2:G515)/512)","v":120.14954688426958},{"$f":"SQRT(SUM(H2:H515)/512)","v":5.367960509624095},{"$f":"SUM(I2:I515)/512","v":588.30600067215971}]